BEGIN:VCALENDAR
VERSION:2.0
PRODID:-//ChamberMaster//Event Calendar 2.0//EN
METHOD:PUBLISH
X-PUBLISHED-TTL:P3D
REFRESH-INTERVAL:P3D
CALSCALE:GREGORIAN
BEGIN:VEVENT
DTSTART:20190802T003000Z
DTEND:20190802T040000Z
X-MICROSOFT-CDO-ALLDAYEVENT:FALSE
SUMMARY:"Night at the Farm" Multi-Chamber Mixer
DESCRIPTION:Come enjoy a summer night out under the stars !This is a perfect opportunity to network with other Chambers and meet lots of new people. \n\n \n\nAdmittance includes:\n\n	Wine tasting\n	Array of delicious hors d'oeuvres\n	Chance to win raffle prizes (including family fun pack to the Fair)\n	$8 fair discount admission coupon \n	VIP guided tour of Fairplex for the 2019 LA County Fair\n	Also\, farm fresh signature cocktails available for purchase
X-ALT-DESC;FMTTYPE=text/html:<strong><em><span style="color:#BF3F2F\;"><span style="font-family:palatino linotype\,serif\;"><span style="font-size:11.5pt\;">Come enjoy a summer night out under the stars !This is a perfect opportunity to network with other Chambers and meet lots of new people.&nbsp\;</span></span></span></em></strong><br />\n&#65279\;<br />\n<span style="color:black\;"><span style="font-family:palatino linotype\,serif\;"><span style="font-size:11.5pt\;">Admittance includes:</span></span></span>\n<ul>\n	<li><span style="color:black\;"><span style="font-family:palatino linotype\,serif\;"><span style="font-size:11.5pt\;">Wine tasting</span></span></span></li>\n	<li><span style="color:black\;"><span style="font-family:palatino linotype\,serif\;"><span style="font-size:11.5pt\;">Array of delicious hors d&#39\;oeuvres</span></span></span></li>\n	<li><span style="color:black\;"><span style="font-family:palatino linotype\,serif\;"><span style="font-size:11.5pt\;">Chance to win raffle prizes (including family fun pack to the Fair)</span></span></span></li>\n	<li><span style="color:#111111\;"><span style="font-family:palatino linotype\,serif\;"><span style="font-size:11.5pt\;">$8 fair discount admission coupon </span></span></span></li>\n	<li><span style="color:#111111\;"><span style="font-family:arial\,sans-serif\;"><span style="font-size:11.5pt\;">VIP guided tour of Fairplex for the 2019 LA County Fair</span></span></span></li>\n	<li><span style="color:black\;"><span style="font-family:palatino linotype\,serif\;"><span style="font-size:11.5pt\;">Also\, farm fresh signature cocktails available for purchase</span></span></span></li>\n</ul>\n
LOCATION:The Farm at Fairplex *directions will take you to the Finishline Sports Bar & Grill\, where you will enter to the Farm.
UID:e.1883.1491
SEQUENCE:3
DTSTAMP:20260421T190939Z
URL:https://business.lavernechamber.org/events/details/night-at-the-farm-multi-chamber-mixer-1491
END:VEVENT

END:VCALENDAR
