BEGIN:VCALENDAR
VERSION:2.0
PRODID:-//ChamberMaster//Event Calendar 2.0//EN
METHOD:PUBLISH
X-PUBLISHED-TTL:P3D
REFRESH-INTERVAL:P3D
CALSCALE:GREGORIAN
BEGIN:VEVENT
DTSTART:20191208T000000Z
DTEND:20191208T040000Z
X-MICROSOFT-CDO-ALLDAYEVENT:FALSE
SUMMARY:Old Town La Verne Holiday Stroll & Tree Lighting
DESCRIPTION:Join the Old Town La Verne Businesses and Restaurants on Saturday\, December 7th for the Annual Holiday Stroll & Tree Lighting. Old Town La Verne has a long history of sharing events with the community and Holiday Stroll is a perfect time to come out and get in the spirit of the Holidays. There will be refreshments\, door prizes and entertainment. Pictures with Santa and a Tree Lighting Ceremony. Don't miss out on this treasured tradition!
X-ALT-DESC;FMTTYPE=text/html:Join the Old Town La Verne Businesses and Restaurants on Saturday\, December 7th for the Annual Holiday Stroll &amp\; Tree Lighting. Old Town La Verne has a long history of sharing events with the community and Holiday Stroll is a perfect time to come out and get in the spirit of the Holidays. There will be refreshments\, door prizes and entertainment. Pictures with Santa and a Tree Lighting&nbsp\;Ceremony. Don't miss out on this treasured tradition!&nbsp\;<br>\n<br>\n&nbsp\;
LOCATION:Old Town La Verne
UID:e.1883.2056
SEQUENCE:3
DTSTAMP:20260421T161416Z
URL:https://business.lavernechamber.org/events/details/old-town-la-verne-holiday-stroll-tree-lighting-2056
END:VEVENT

END:VCALENDAR
