BEGIN:VCALENDAR
VERSION:2.0
PRODID:-//ChamberMaster//Event Calendar 2.0//EN
METHOD:PUBLISH
X-PUBLISHED-TTL:P3D
REFRESH-INTERVAL:P3D
CALSCALE:GREGORIAN
BEGIN:VEVENT
DTSTART:20180908T200000Z
DTEND:20180909T230000Z
X-MICROSOFT-CDO-ALLDAYEVENT:FALSE
SUMMARY:Open House
DESCRIPTION:OPEN HOUSE  \n\nSaturday Sept 8th & Sunday Sept 9th from 1-4\n\n\n\n14535 Boots Ln Fontana CA\n\n6 beds . 3 baths . 2\,253 Soft . Lot 5412\n\n\n\nCome and find out how to become a home owner!!! \n\n\n\nBe sure to LIKE and SHARE to anyone that you think might be interested. \n\n\n\nQuestions? ?? call/text  Danna 909/228/5118\n\nCall/text for private showing \n\nPatricia Parks ?(951) 217-3779?\n\n\n\nESPA OL \n\n CASA ABIERTA \n\nS bado 8 de septiembre y domingo 9 de septiembre\n\nde 1 a 4pm\n\n14535 Boots Ln Fontana CA\n\n6 camas . 3 ba os . 2\,253 Pies Cuadrado. Lote 5412\n\nVen y descubre c mo convertirte en propietario de una casa\n\nAseg rate de Gustar y COMPARTIR a cualquiera que creas que pueda estar interesado.\n\n\n\nPreguntas?  llamada / texto Danna 909/228/5118\n\n\n\nLlamada / texto para muestra privada\n\nPatricia Parks(951) 217-3779
X-ALT-DESC;FMTTYPE=text/html:&nbsp\;OPEN HOUSE&nbsp\;&nbsp\;<br />\nSaturday Sept 8th &amp\; Sunday Sept 9th from 1-4<br />\n<br />\n14535 Boots Ln Fontana CA<br />\n6 beds . 3 baths . 2\,253 Soft . Lot 5412<br />\n<br />\nCome and find out how to become a home owner!!!&nbsp\;<br />\n<br />\nBe sure to LIKE and SHARE to anyone that you think might be interested.&nbsp\;<br />\n<br />\nQuestions? ?? call/text &nbsp\;Danna 909/228/5118<br />\nCall/text for private showing&nbsp\;<br />\nPatricia Parks ?(951) 217-3779?<br />\n<br />\nESPA&Ntilde\;OL&nbsp\;<br />\n&nbsp\;CASA ABIERTA&nbsp\;<br />\nS&aacute\;bado 8 de septiembre y domingo 9 de septiembre<br />\nde 1 a 4pm<br />\n14535 Boots Ln Fontana CA<br />\n6 camas . 3 ba&ntilde\;os . 2\,253 Pies Cuadrado. Lote 5412<br />\nVen y descubre c&oacute\;mo convertirte en propietario de una casa<br />\nAseg&uacute\;rate de Gustar y COMPARTIR a cualquiera que creas que pueda estar interesado.<br />\n<br />\nPreguntas?&nbsp\; llamada / texto Danna 909/228/5118<br />\n<br />\nLlamada / texto para muestra privada<br />\nPatricia Parks(951) 217-3779
LOCATION:14535 Boots Ln Fontana CA
UID:e.1883.1194
SEQUENCE:3
DTSTAMP:20260422T103542Z
URL:https://business.lavernechamber.org/events/details/open-house-09-08-2018-1194
END:VEVENT

END:VCALENDAR
