BEGIN:VCALENDAR
VERSION:2.0
PRODID:-//ChamberMaster//Event Calendar 2.0//EN
METHOD:PUBLISH
X-PUBLISHED-TTL:P3D
REFRESH-INTERVAL:P3D
CALSCALE:GREGORIAN
BEGIN:VEVENT
DTSTART:20180429T180000Z
DTEND:20180429T230000Z
X-MICROSOFT-CDO-ALLDAYEVENT:FALSE
SUMMARY:Open House 6928 Wheeler Ave
DESCRIPTION:Come by\, Look around\, See yourself living here. Make an offer!!!\n\nCALL ARUN TOLIA: 909-518-8317
X-ALT-DESC;FMTTYPE=text/html:<div class="_5pbx userContent _3576" data-ft="{&quot\;tn&quot\;:&quot\;K&quot\;}" id="js_1s" style="font-size: 14px\; line-height: 1.38\; margin-top: 6px\; font-family: Helvetica\, Arial\, sans-serif\; color: rgb(29\, 33\, 41)\;">\n<div class="text_exposed_root text_exposed" id="id_5ae0efbd09ef10510285723" style="display: inline\; font-family: inherit\;"><br />\nCome by\, Look around\, See yourself living here. Make an offer!!!<br />\nCALL ARUN TOLIA: 909-518-8317</div>\n</div>\n\n<div class="_3x-2" data-ft="{&quot\;tn&quot\;:&quot\;H&quot\;}" style="font-family: Helvetica\, Arial\, sans-serif\; color: rgb(29\, 33\, 41)\; font-size: 12px\;">\n<div data-ft="{&quot\;tn&quot\;:&quot\;H&quot\;}" style="font-family: inherit\;">\n<div class="mtm" style="margin-top: 10px\; font-family: inherit\;">\n<div class="_2a2q" style="overflow: hidden\; position: relative\; font-family: inherit\; width: 476px\; height: 476px\;">&nbsp\;</div>\n</div>\n</div>\n</div>\n
LOCATION:6928 Wheeler Ave.
UID:e.1883.658
SEQUENCE:3
DTSTAMP:20260422T194728Z
URL:https://business.lavernechamber.org/events/details/open-house-6928-wheeler-ave-658
END:VEVENT

END:VCALENDAR
