BEGIN:VCALENDAR
VERSION:2.0
PRODID:-//ChamberMaster//Event Calendar 2.0//EN
METHOD:PUBLISH
X-PUBLISHED-TTL:P3D
REFRESH-INTERVAL:P3D
CALSCALE:GREGORIAN
BEGIN:VEVENT
DTSTART:20171014T170000Z
DTEND:20171014T220000Z
X-MICROSOFT-CDO-ALLDAYEVENT:FALSE
SUMMARY:Open House and Fly In at Brackett Field Airport
DESCRIPTION:
X-ALT-DESC;FMTTYPE=text/html:
LOCATION:Brackett Field Airport 1615 McKinley Ave.
UID:e.1883.202
SEQUENCE:3
DTSTAMP:20260423T033007Z
URL:https://business.lavernechamber.org/events/details/open-house-and-fly-in-at-brackett-field-airport-202
END:VEVENT

END:VCALENDAR
