BEGIN:VCALENDAR
VERSION:2.0
PRODID:-//ChamberMaster//Event Calendar 2.0//EN
METHOD:PUBLISH
X-PUBLISHED-TTL:P3D
REFRESH-INTERVAL:P3D
CALSCALE:GREGORIAN
BEGIN:VEVENT
DTSTART:20190816T003000Z
DTEND:20190816T020000Z
X-MICROSOFT-CDO-ALLDAYEVENT:FALSE
SUMMARY:Open House at Bonelli Bluffs RV Park & Campground
DESCRIPTION:You are cordially invited to an open house in celebration of East Shore RV under new management with a new business name\, Bonelli Bluffs RV Resort & Campground.\nPlease join us for fun\, food and friends in the great outdoors!
X-ALT-DESC;FMTTYPE=text/html:<h4 color:="" font-size:="" font-weight:="" style="border: 0px\; margin: 0px 0px 20px\; padding: 0px\; font-family: " work=""><span style="font-size:16px\;"><span style="font-family:tahoma\;">You are cordially invited to an open house in celebration of East Shore RV under new management with a new business name\, Bonelli Bluffs RV Resort &amp\; Campground.</span></span></h4>\n<span style="font-size:16px\;"><span style="font-family:tahoma\;">Please join us for fun\, food and friends in the great outdoors!</span></span>
LOCATION:The Recreation Hall at Bonelli Bluffs
UID:e.1883.1503
SEQUENCE:3
DTSTAMP:20260421T190816Z
URL:https://business.lavernechamber.org/events/details/open-house-at-bonelli-bluffs-rv-park-campground-1503
END:VEVENT

END:VCALENDAR
