BEGIN:VCALENDAR
VERSION:2.0
PRODID:-//ChamberMaster//Event Calendar 2.0//EN
METHOD:PUBLISH
X-PUBLISHED-TTL:P3D
REFRESH-INTERVAL:P3D
CALSCALE:GREGORIAN
BEGIN:VEVENT
DTSTART:20190822T200000Z
DTEND:20190823T030000Z
X-MICROSOFT-CDO-ALLDAYEVENT:FALSE
SUMMARY:Open House at Proud Digital Media Film Studios
DESCRIPTION:Join us at our Open House!\n\nTour the Studio\, Network with the Abaie!\n\nSpecial Guest appearances from \n\n    Area 51 Escapee\n\n    Thor\n\n    Simba\n\n    Black Panther    \n\n\n\nAlso:\n\nHead Shots\n\nSelfie Station\n\nSnacks & Drinks
X-ALT-DESC;FMTTYPE=text/html:Join us at our Open House!<br />\nTour the Studio\, Network with the Abaie!<br />\nSpecial Guest appearances from&nbsp\;<br />\n&nbsp\; &nbsp\; Area 51 Escapee<br />\n&nbsp\; &nbsp\; Thor<br />\n&nbsp\; &nbsp\; Simba<br />\n&nbsp\;&nbsp\;&nbsp\;&nbsp\;Black Panther&nbsp\;&nbsp\;&nbsp\;&nbsp\;<br />\n<br />\nAlso:<br />\nHead Shots<br />\nSelfie Station<br />\nSnacks &amp\; Drinks<br />\n<br />\n&nbsp\;
LOCATION:Proud Digital Media Film Studio
UID:e.1883.1724
SEQUENCE:3
DTSTAMP:20260421T175128Z
URL:https://business.lavernechamber.org/events/details/open-house-at-proud-digital-media-film-studios-1724
END:VEVENT

END:VCALENDAR
