BEGIN:VCALENDAR
VERSION:2.0
PRODID:-//ChamberMaster//Event Calendar 2.0//EN
METHOD:PUBLISH
X-PUBLISHED-TTL:P3D
REFRESH-INTERVAL:P3D
CALSCALE:GREGORIAN
BEGIN:VEVENT
DTSTART:20181020T170000Z
DTEND:20181021T010000Z
X-MICROSOFT-CDO-ALLDAYEVENT:FALSE
SUMMARY:Open House & Fly In at Brackett Field Airport
DESCRIPTION:Come visit your local airport! We're having a special Open House with antique and municipal aircraft displays\, along with classic cars\, a flight school meet n' greet and gourmet food trucks. \n\n\n\nFlight instructors from four flight schools will be on hand to talk and even book your first flight lesson.\n\n\n\nBest of all\, FREE ADMISSION!!!
X-ALT-DESC;FMTTYPE=text/html:<span style="color: rgb(29\, 33\, 41)\; font-family: Helvetica\, Arial\, sans-serif\; font-size: 14px\;">Come visit your local airport! We&#39\;re having a special Open House with antique and municipal aircraft displays\, along with classic cars\, a flight school meet n&#39\; greet and gourmet food trucks.&nbsp\;</span><br style="color: rgb(29\, 33\, 41)\; font-family: Helvetica\, Arial\, sans-serif\; font-size: 14px\;" />\n<br style="color: rgb(29\, 33\, 41)\; font-family: Helvetica\, Arial\, sans-serif\; font-size: 14px\;" />\n<span style="color: rgb(29\, 33\, 41)\; font-family: Helvetica\, Arial\, sans-serif\; font-size: 14px\;">Flight instructors from four flight schools will be on hand to talk and even book your first flight lesson.</span><br style="color: rgb(29\, 33\, 41)\; font-family: Helvetica\, Arial\, sans-serif\; font-size: 14px\;" />\n<br style="color: rgb(29\, 33\, 41)\; font-family: Helvetica\, Arial\, sans-serif\; font-size: 14px\;" />\n<span style="color: rgb(29\, 33\, 41)\; font-family: Helvetica\, Arial\, sans-serif\; font-size: 14px\;">Best of all\, FREE ADMISSION!!!</span>
LOCATION:Brackett Field 1615 McKinely Ave.
UID:e.1883.1226
SEQUENCE:3
DTSTAMP:20260422T090843Z
URL:https://business.lavernechamber.org/events/details/open-house-fly-in-at-brackett-field-airport-1226
END:VEVENT

END:VCALENDAR
