BEGIN:VCALENDAR
VERSION:2.0
PRODID:-//ChamberMaster//Event Calendar 2.0//EN
METHOD:PUBLISH
X-PUBLISHED-TTL:P3D
REFRESH-INTERVAL:P3D
CALSCALE:GREGORIAN
BEGIN:VEVENT
DTSTART:20191019T170000Z
DTEND:20191019T220000Z
X-MICROSOFT-CDO-ALLDAYEVENT:FALSE
SUMMARY:Open House & Fly In Brackett Field Airport
DESCRIPTION:Warbird\, Airplane and Helicopter Rides \n\nAntique Aircraft Display/Warbirds\, Food Vendors/Trucks.\n\nCAL-RODS Classic/Exotic Car Show 10:00AM to 3:00PM\n\nLA County Hiring Spree Event 10:00AM to 3:00PM\n\nEveryone will enjoy aviation\, vintage aircraft\, classic cars and booths representing local Police\, County Sheriff and Fire Dept. public service personnel\, STEAM\, and other nonprofit organizations. Connect with local aviation businesses\, flight schools and others that share a passion for aviation!\n\nJoin us! Bring family and friends! Introduce someone to aviation!
X-ALT-DESC;FMTTYPE=text/html:<p style="margin: 1em 0px\; font-family: Helvetica\, Arial\, sans-serif\; color: rgb(102\, 102\, 102)\; font-size: 12px\;">Warbird\, Airplane and Helicopter Rides&nbsp\;<br />\nAntique Aircraft Display/Warbirds\, Food Vendors/Trucks.</p>\n\n<p style="margin: 1em 0px\; font-family: Helvetica\, Arial\, sans-serif\; color: rgb(102\, 102\, 102)\; font-size: 12px\;">CAL-RODS Classic/Exotic Car Show 10:00AM to 3:00PM</p>\n\n<p style="margin: 1em 0px\; font-family: Helvetica\, Arial\, sans-serif\; color: rgb(102\, 102\, 102)\; font-size: 12px\;">LA County Hiring Spree Event 10:00AM to 3:00PM</p>\n\n<p style="margin: 1em 0px\; font-family: Helvetica\, Arial\, sans-serif\; color: rgb(102\, 102\, 102)\; font-size: 12px\;">Everyone will enjoy aviation\, vintage aircraft\, classic cars and booths representing local Police\, County Sheriff and Fire Dept. public service personnel\, STEAM\, and other nonprofit organizations. Connect with local aviation businesses\, flight schools and others that share a passion for aviation!</p>\n\n<p style="margin: 1em 0px 0px\; font-family: Helvetica\, Arial\, sans-serif\; color: rgb(102\, 102\, 102)\; font-size: 12px\;">Join us! Bring family and friends! Introduce someone to aviation!</p>\n
LOCATION:Brackett Field Airport PARKING: Limited parking on the South side of the airport in the main parking lot. Parking is FREE OVERFLOW PARKING: Boneyard/McKinley ramp off McKinley Ave (behind the Ranger hangars)
UID:e.1883.1500
SEQUENCE:3
DTSTAMP:20260421T145150Z
URL:https://business.lavernechamber.org/events/details/open-house-fly-in-brackett-field-airport-1500
END:VEVENT

END:VCALENDAR
