BEGIN:VCALENDAR
VERSION:2.0
PRODID:-//ChamberMaster//Event Calendar 2.0//EN
METHOD:PUBLISH
X-PUBLISHED-TTL:P3D
REFRESH-INTERVAL:P3D
CALSCALE:GREGORIAN
BEGIN:VEVENT
DTSTART:20180623T180000Z
DTEND:20180623T220000Z
X-MICROSOFT-CDO-ALLDAYEVENT:FALSE
SUMMARY:Open House-La Verne
DESCRIPTION:Open House Saturday and Sunday 6/23/18-6/24/18   11-3
X-ALT-DESC;FMTTYPE=text/html:Open House Saturday and Sunday 6/23/18-6/24/18&nbsp\; &nbsp\;11-3
LOCATION:739 Fordland Ave.\, La Verne
UID:e.1883.697
SEQUENCE:3
DTSTAMP:20260422T151509Z
URL:https://business.lavernechamber.org/events/details/open-house-la-verne-697
END:VEVENT

END:VCALENDAR
