BEGIN:VCALENDAR
VERSION:2.0
PRODID:-//ChamberMaster//Event Calendar 2.0//EN
METHOD:PUBLISH
X-PUBLISHED-TTL:P3D
REFRESH-INTERVAL:P3D
CALSCALE:GREGORIAN
BEGIN:VEVENT
DTSTART:20140320T000000Z
DTEND:20140320T040000Z
X-MICROSOFT-CDO-ALLDAYEVENT:FALSE
SUMMARY:Orange County Largest Mixer
DESCRIPTION:
X-ALT-DESC;FMTTYPE=text/html:
LOCATION:
UID:e.1883.41
SEQUENCE:3
DTSTAMP:20260426T013609Z
URL:https://business.lavernechamber.org/events/details/orange-county-largest-mixer-03-19-2014-41
END:VEVENT

END:VCALENDAR
