BEGIN:VCALENDAR
VERSION:2.0
PRODID:-//ChamberMaster//Event Calendar 2.0//EN
METHOD:PUBLISH
X-PUBLISHED-TTL:P3D
REFRESH-INTERVAL:P3D
CALSCALE:GREGORIAN
BEGIN:VEVENT
DTSTART:20190910T010000Z
DTEND:20190910T033000Z
X-MICROSOFT-CDO-ALLDAYEVENT:FALSE
SUMMARY:Paint Party with a Purpose
DESCRIPTION:Learn to paint The Starry Night by Vincent van Gogh with artist David Drape.\n\n$40 includes step by step painting\, snacks & soda and a $20 donation to St. Jude Children's Research Hospital.\n\nChiliHeads are passionate about living out our purpose to connect\, serve and give.
X-ALT-DESC;FMTTYPE=text/html:Learn to paint The Starry Night by Vincent van Gogh with artist David Drape.<br />\n$40 includes step by step painting\, snacks &amp\; soda and a $20 donation to St. Jude Children&#39\;s Research Hospital.<br />\nChiliHeads are passionate about living out our purpose to connect\, serve and give.&nbsp\;
LOCATION:Chili's La Verne
UID:e.1883.1727
SEQUENCE:3
DTSTAMP:20260421T161251Z
URL:https://business.lavernechamber.org/events/details/paint-party-with-a-purpose-1727
END:VEVENT

END:VCALENDAR
