BEGIN:VCALENDAR
VERSION:2.0
PRODID:-//ChamberMaster//Event Calendar 2.0//EN
METHOD:PUBLISH
X-PUBLISHED-TTL:P3D
REFRESH-INTERVAL:P3D
CALSCALE:GREGORIAN
BEGIN:VEVENT
DTSTART:20190704T133000Z
DTEND:20190704T180000Z
X-MICROSOFT-CDO-ALLDAYEVENT:FALSE
SUMMARY:Pancake Breakfast
DESCRIPTION:Start Independence Day with a pancake breakfast sponsored by Boy Scout Troop 411.
X-ALT-DESC;FMTTYPE=text/html:Start Independence Day with a pancake breakfast sponsored by Boy Scout Troop 411.&nbsp\;
LOCATION:Methodist Church (Parking is located across the street at Bonita High School)
UID:e.1883.1431
SEQUENCE:3
DTSTAMP:20260421T190524Z
URL:https://business.lavernechamber.org/events/details/pancake-breakfast-1431
END:VEVENT

END:VCALENDAR
