BEGIN:VCALENDAR
VERSION:2.0
PRODID:-//ChamberMaster//Event Calendar 2.0//EN
METHOD:PUBLISH
X-PUBLISHED-TTL:P3D
REFRESH-INTERVAL:P3D
CALSCALE:GREGORIAN
BEGIN:VEVENT
DTSTART:20170704T133000Z
DTEND:20170704T180000Z
X-MICROSOFT-CDO-ALLDAYEVENT:FALSE
SUMMARY:Pancake Breakfast
DESCRIPTION:Start Independence Day with a pancake breakfast sponsored by Boy Scout Troop 411. Breakfast is available from 6:30 - 11:00 a.m. at the Methodist Church\, 3205 D Street\, La Verne for $5 per person\, which includes 3 pancakes and 3 sausages.
X-ALT-DESC;FMTTYPE=text/html:Start Independence Day with a pancake breakfast sponsored by Boy Scout Troop 411. Breakfast is available from 6:30 - 11:00 a.m. at the Methodist Church\, 3205 D Street\, La Verne for $5 per person\, which includes 3 pancakes and 3 sausages.&nbsp\;
LOCATION:Methodist Church\, 3205 D Street\,
UID:e.1883.158
SEQUENCE:3
DTSTAMP:20260423T080851Z
URL:https://business.lavernechamber.org/events/details/pancake-breakfast-158
END:VEVENT

END:VCALENDAR
