BEGIN:VCALENDAR
VERSION:2.0
PRODID:-//ChamberMaster//Event Calendar 2.0//EN
METHOD:PUBLISH
X-PUBLISHED-TTL:P3D
REFRESH-INTERVAL:P3D
CALSCALE:GREGORIAN
BEGIN:VEVENT
DTSTART:20190413T180000Z
DTEND:20190414T000000Z
X-MICROSOFT-CDO-ALLDAYEVENT:FALSE
SUMMARY:Peoples Choice Awards BBQ Cookoff
DESCRIPTION:Do you want to judge the best BBQ competition in the foothills?\n\n\n\nDon't miss our Annual People's Choice Awards BBQ Cook-Off Event on Saturday\, April 13th from 11am-5pm! \n\n\n\nAlso\, NEW this year LA's food and radio legend of The Fork Report with Neil Saavedra\, will be LIVE from 2pm-5pm at Outdoor Elegance! \n\n\n\nYou'll be able to sample delicious BBQ and then cast your votes to decide who who deserves to be crowned 2019 People's Choice Champion!\n\n\n\nWe've got our top BBQ grill manufactures bringing their grill masters out to compete to be crowned 2019 People's Choice Award Champion! Top manufactures like Big Green Egg\, Twin Eagles Grills\, Fire Magic Grills\, Hestan\, Alfresco Grills\, Memphis Wood Fire Grills\, Perlick Corporation and more!\n\n\n\nHope to see you there and happy BBQ season!!
X-ALT-DESC;FMTTYPE=text/html:<span style="color: rgb(29\, 33\, 41)\; font-family: Helvetica\, Arial\, sans-serif\; font-size: 14px\; white-space: pre-wrap\;">Do you want to judge the best BBQ competition in the foothills?</span><br style="color: rgb(29\, 33\, 41)\; font-family: Helvetica\, Arial\, sans-serif\; font-size: 14px\; white-space: pre-wrap\;" />\n<br style="color: rgb(29\, 33\, 41)\; font-family: Helvetica\, Arial\, sans-serif\; font-size: 14px\; white-space: pre-wrap\;" />\n<span style="color: rgb(29\, 33\, 41)\; font-family: Helvetica\, Arial\, sans-serif\; font-size: 14px\; white-space: pre-wrap\;">Don&#39\;t miss our Annual People&#39\;s Choice Awards BBQ Cook-Off Event on Saturday\, April 13th from 11am-5pm! </span><br style="color: rgb(29\, 33\, 41)\; font-family: Helvetica\, Arial\, sans-serif\; font-size: 14px\; white-space: pre-wrap\;" />\n<br style="color: rgb(29\, 33\, 41)\; font-family: Helvetica\, Arial\, sans-serif\; font-size: 14px\; white-space: pre-wrap\;" />\n<span style="color: rgb(29\, 33\, 41)\; font-family: Helvetica\, Arial\, sans-serif\; font-size: 14px\; white-space: pre-wrap\;">Also\, NEW this year LA&#39\;s food and radio legend of </span><a href="https://www.facebook.com/forkreport/" style="color: rgb(54\, 88\, 153)\; cursor: pointer\; text-decoration-line: none\; font-family: Helvetica\, Arial\, sans-serif\; font-size: 14px\; white-space: pre-wrap\;" target="_blank">The Fork Report with Neil Saavedra</a><span style="color: rgb(29\, 33\, 41)\; font-family: Helvetica\, Arial\, sans-serif\; font-size: 14px\; white-space: pre-wrap\;">\, will be LIVE from 2pm-5pm at Outdoor Elegance! </span><br />\n<br style="color: rgb(29\, 33\, 41)\; font-family: Helvetica\, Arial\, sans-serif\; font-size: 14px\; white-space: pre-wrap\;" />\n<span style="color: rgb(29\, 33\, 41)\; font-family: Helvetica\, Arial\, sans-serif\; font-size: 14px\; white-space: pre-wrap\;">You&#39\;ll be able to sample delicious BBQ and then cast your votes to decide who who deserves to be crowned 2019 People&#39\;s Choice Champion!</span><br style="color: rgb(29\, 33\, 41)\; font-family: Helvetica\, Arial\, sans-serif\; font-size: 14px\; white-space: pre-wrap\;" />\n<br style="color: rgb(29\, 33\, 41)\; font-family: Helvetica\, Arial\, sans-serif\; font-size: 14px\; white-space: pre-wrap\;" />\n<span style="color: rgb(29\, 33\, 41)\; font-family: Helvetica\, Arial\, sans-serif\; font-size: 14px\; white-space: pre-wrap\;">We&#39\;ve got our top BBQ grill manufactures bringing their grill masters out to compete to be crowned 2019 People&#39\;s Choice Award Champion! Top manufactures like </span><a href="https://www.facebook.com/BigGreenEgg/" style="color: rgb(54\, 88\, 153)\; cursor: pointer\; text-decoration-line: none\; font-family: Helvetica\, Arial\, sans-serif\; font-size: 14px\; white-space: pre-wrap\;" target="_blank">Big Green Egg</a><span style="color: rgb(29\, 33\, 41)\; font-family: Helvetica\, Arial\, sans-serif\; font-size: 14px\; white-space: pre-wrap\;">\, </span><a href="https://www.facebook.com/TwinEaglesGrills/" style="color: rgb(54\, 88\, 153)\; cursor: pointer\; text-decoration-line: none\; font-family: Helvetica\, Arial\, sans-serif\; font-size: 14px\; white-space: pre-wrap\;" target="_blank">Twin Eagles Grills</a><span style="color: rgb(29\, 33\, 41)\; font-family: Helvetica\, Arial\, sans-serif\; font-size: 14px\; white-space: pre-wrap\;">\, </span><a href="https://www.facebook.com/firemagicgrills/" style="color: rgb(54\, 88\, 153)\; cursor: pointer\; text-decoration-line: none\; font-family: Helvetica\, Arial\, sans-serif\; font-size: 14px\; white-space: pre-wrap\;" target="_blank">Fire Magic Grills</a><span style="color: rgb(29\, 33\, 41)\; font-family: Helvetica\, Arial\, sans-serif\; font-size: 14px\; white-space: pre-wrap\;">\, </span><a href="https://www.facebook.com/HestanHome/" style="color: rgb(54\, 88\, 153)\; cursor: pointer\; text-decoration-line: none\; font-family: Helvetica\, Arial\, sans-serif\; font-size: 14px\; white-space: pre-wrap\;" target="_blank">Hestan</a><span style="color: rgb(29\, 33\, 41)\; font-family: Helvetica\, Arial\, sans-serif\; font-size: 14px\; white-space: pre-wrap\;">\, </span><a href="https://www.facebook.com/alfrescogrills/" style="color: rgb(54\, 88\, 153)\; cursor: pointer\; text-decoration-line: none\; font-family: Helvetica\, Arial\, sans-serif\; font-size: 14px\; white-space: pre-wrap\;" target="_blank">Alfresco Grills</a><span style="color: rgb(29\, 33\, 41)\; font-family: Helvetica\, Arial\, sans-serif\; font-size: 14px\; white-space: pre-wrap\;">\, </span><a href="https://www.facebook.com/MemphisGrills/" style="color: rgb(54\, 88\, 153)\; cursor: pointer\; text-decoration-line: none\; font-family: Helvetica\, Arial\, sans-serif\; font-size: 14px\; white-space: pre-wrap\;" target="_blank">Memphis Wood Fire Grills</a><span style="color: rgb(29\, 33\, 41)\; font-family: Helvetica\, Arial\, sans-serif\; font-size: 14px\; white-space: pre-wrap\;">\, </span><a href="https://www.facebook.com/perlickcorp/" style="color: rgb(54\, 88\, 153)\; cursor: pointer\; text-decoration-line: none\; font-family: Helvetica\, Arial\, sans-serif\; font-size: 14px\; white-space: pre-wrap\;" target="_blank">Perlick Corporation</a><span style="color: rgb(29\, 33\, 41)\; font-family: Helvetica\, Arial\, sans-serif\; font-size: 14px\; white-space: pre-wrap\;"> and more!<br />\n<br />\nHope to see you there and happy BBQ season!!</span>
LOCATION:Outdoor Elegance
UID:e.1883.1355
SEQUENCE:3
DTSTAMP:20260422T011424Z
URL:https://business.lavernechamber.org/events/details/peoples-choice-awards-bbq-cookoff-1355
END:VEVENT

END:VCALENDAR
