BEGIN:VCALENDAR
VERSION:2.0
PRODID:-//ChamberMaster//Event Calendar 2.0//EN
METHOD:PUBLISH
X-PUBLISHED-TTL:P3D
REFRESH-INTERVAL:P3D
CALSCALE:GREGORIAN
BEGIN:VEVENT
DTSTART:20190315T000000Z
DTEND:20190315T020000Z
X-MICROSOFT-CDO-ALLDAYEVENT:FALSE
SUMMARY:Pi Day Party
DESCRIPTION:You're invited to our Pi Day Party!\n\n\n\nWhy should we care about pi? 3.14... . The number may be irrational\, but it can be found all over the natural world. It appears everywhere there's a circle\, such as the disk of the sun\, planets\, and even the earth. Pi is in the physics that describes waves\, such as light and sound. Pi even appears in the spiral of the DNA double helix! This is why we care about pi\, and it's why we're inviting you to come celebrate this exceptional number with us at our Pi Day Party! Let's celebrate this incredible\, irrational number!\n\n\n\nPizzas\, Pies\, and Cookies will be served.
X-ALT-DESC;FMTTYPE=text/html:<strong>You&#39\;re invited to our Pi Day Party!</strong><br />\n<br />\nWhy should we care about pi? 3.14... . The number may be irrational\, but it can be found all over the natural world. It appears everywhere there&#39\;s a circle\, such as the disk of the sun\, planets\, and even the earth. Pi is in the physics that describes waves\, such as light and sound. Pi even appears in the spiral of the DNA double helix! This is why we care about pi\, and it&#39\;s why we&#39\;re inviting you to come celebrate this exceptional number with us at our Pi Day Party! Let&#39\;s celebrate this incredible\, irrational number!<br />\n<br />\n<strong>Pizzas\, Pies\, and Cookies will be served.</strong>
LOCATION:Mathnasium of La Verne 1568 Foothill Blvd La Verne\, CA 91750
UID:e.1883.1330
SEQUENCE:3
DTSTAMP:20260422T025059Z
URL:https://business.lavernechamber.org/events/details/pi-day-party-03-14-2019-1330
END:VEVENT

END:VCALENDAR
