BEGIN:VCALENDAR
VERSION:2.0
PRODID:-//ChamberMaster//Event Calendar 2.0//EN
METHOD:PUBLISH
X-PUBLISHED-TTL:P3D
REFRESH-INTERVAL:P3D
CALSCALE:GREGORIAN
BEGIN:VEVENT
DTSTART:20180315T000000Z
DTEND:20180315T020000Z
X-MICROSOFT-CDO-ALLDAYEVENT:FALSE
SUMMARY:Pi Day Party
DESCRIPTION:Which number is so special that it's celebrated on 3/14 in more than 100 countries? It's 3.14..... pi\, of course! - Come celebrate this V.I.N. (very important number) with us! We'll share circle-themed food and do fun\, pi-themed activities. Bring your friends\, because Pi Day is the the time to celebrate math for math's sake!
X-ALT-DESC;FMTTYPE=text/html:<span style="color:rgb(29\, 33\, 41)\; font-family:helvetica\,arial\,sans-serif\; font-size:14px">Which number is so special that it&#39\;s celebrated on 3/14 in more than 100 countries? It&#39\;s 3.14..... pi\, of course! - Come celebrate this V.I.N. (very important number) with us! We&#39\;ll share circle-themed food and do fun\, pi-themed activities. Bring your friends\, because Pi Day is the the time to celebrate math for math&#39\;s sake!</span>
LOCATION:Mathnasium of La Verne 1568 Foothill Blvd La Verne\, CA 91750
UID:e.1883.554
SEQUENCE:3
DTSTAMP:20260422T194449Z
URL:https://business.lavernechamber.org/events/details/pi-day-party-554
END:VEVENT

END:VCALENDAR
