BEGIN:VCALENDAR
VERSION:2.0
PRODID:-//ChamberMaster//Event Calendar 2.0//EN
METHOD:PUBLISH
X-PUBLISHED-TTL:P3D
REFRESH-INTERVAL:P3D
CALSCALE:GREGORIAN
BEGIN:VEVENT
DTSTART:20180127T170000Z
DTEND:20180127T230000Z
X-MICROSOFT-CDO-ALLDAYEVENT:FALSE
SUMMARY:Pick Your Own Oranges at Heritage Park
DESCRIPTION:Enjoy a ?Slice of La Verne?s Past? while picking some of the best tasting oranges around. The Heritage Foundation offers you one of the last working orange groves in the area as a place to enjoy with your family. Bags of oranges are $5\, and mesh bags and the picking poles are supplied. The historic Weber house will also be open for tours from 10:00 a.m. - 12:00 p.m. Orange picking opens Saturdays beginning January 6\, 2018\, and continuing approximately until the beginning of March. For more information call (909) 293-9005 or check out our web site at www.laverneheritage.org.
X-ALT-DESC;FMTTYPE=text/html:Enjoy a ?Slice of La Verne?s Past? while picking some of the best tasting oranges around. The Heritage Foundation offers you one of the last working orange groves in the area as a place to enjoy with your family. Bags of oranges are $5\, and mesh bags and the picking poles are supplied. The historic Weber house will also be open for tours from 10:00 a.m. - 12:00 p.m. Orange picking opens Saturdays beginning January 6\, 2018\, and continuing approximately until the beginning of March. For more information call (909) 293-9005 or check out our web site at www.laverneheritage.org.
LOCATION:Heritage Park 5001 V a De Mansion\, La Verne\, CA 91750
UID:e.1883.509
SEQUENCE:3
DTSTAMP:20260422T230047Z
URL:https://business.lavernechamber.org/events/details/pick-your-own-oranges-at-heritage-park-01-27-2018-509
END:VEVENT

END:VCALENDAR
