BEGIN:VCALENDAR
VERSION:2.0
PRODID:-//ChamberMaster//Event Calendar 2.0//EN
METHOD:PUBLISH
X-PUBLISHED-TTL:P3D
REFRESH-INTERVAL:P3D
CALSCALE:GREGORIAN
BEGIN:VEVENT
DTSTART:20190518T010000Z
DTEND:20190518T050000Z
X-MICROSOFT-CDO-ALLDAYEVENT:FALSE
SUMMARY:Pomona Valley Hospital Medical Center Foundation 15th Annual Wine Tasting
DESCRIPTION:Pomona Valley Hospital Medical Center Foundation\, Claremont Toyota and Liquorama Fine Wines and Spirits invite you to the 15th Annual Wine Tasting Event! This year\, we will celebrate the $1 million milestone of net proceeds being raised from this annual event for the hospital's tiniest and fragile babies. \n\n\n\nJoin us Friday\, May 17th\, for an evening of wine samplings\, tasty hors d'oeuvres and silent and live auctions! Each guest will have the opportunity to taste and extraordinary collection of over 200 wines\, selected from over 30 vintners from around the world. The demanding palate of LIQUORAMA's owner\, John Solomon\, ensures the wines selected are truly rated 90 or above on a 100 point scale.\n\n\n\nThe net proceeds from the Annual Wine Tasting are used to purchase state of the art equipment for Pomona Valley Hospital Medical Center's pediatric and neonatal intensive care (NICU) units\, and Milestones Center for Child Development. Over the past 14 years\, the Annual Wine Tasting has raised over $920\,000 for the two departments.
X-ALT-DESC;FMTTYPE=text/html:<h3 style="box-sizing: border-box\; margin: 0px\; line-height: 1.6\; font-family: Lato\, sans-serif\; font-weight: 600\; color: rgb(100\, 31\, 60)\; font-size: 1.25em\; padding-top: 0.25em\; background-color: rgb(237\, 237\, 237)\;"><span style="color: rgb(29\, 33\, 41)\; font-family: Helvetica\, Arial\, sans-serif\; font-size: 14px\; white-space: pre-wrap\; background-color: rgb(255\, 255\, 255)\;">Pomona Valley Hospital Medical Center Foundation\, Claremont Toyota and Liquorama Fine Wines and Spirits invite you to the 15th Annual Wine Tasting Event! This year\, we will celebrate the $1 million milestone of net proceeds being raised from this annual event for the hospital&#39\;s tiniest and fragile babies. </span><br style="color: rgb(29\, 33\, 41)\; font-family: Helvetica\, Arial\, sans-serif\; font-size: 14px\; white-space: pre-wrap\; background-color: rgb(255\, 255\, 255)\;" />\n<br style="color: rgb(29\, 33\, 41)\; font-family: Helvetica\, Arial\, sans-serif\; font-size: 14px\; white-space: pre-wrap\; background-color: rgb(255\, 255\, 255)\;" />\n<span style="color: rgb(29\, 33\, 41)\; font-family: Helvetica\, Arial\, sans-serif\; font-size: 14px\; white-space: pre-wrap\; background-color: rgb(255\, 255\, 255)\;">Join us Friday\, May 17th\, for an evening of wine samplings\, tasty hors d&#39\;oeuvres and silent and live auctions! Each guest will have the opportunity to taste and extraordinary collection of over 200 wines\, selected from over 30 vintners from around the world. The demanding palate of LIQUORAMA&rsquo\;s owner\, John Solomon\, ensures the wines selected are truly rated 90 or above on a 100 point scale.</span><br style="color: rgb(29\, 33\, 41)\; font-family: Helvetica\, Arial\, sans-serif\; font-size: 14px\; white-space: pre-wrap\; background-color: rgb(255\, 255\, 255)\;" />\n<br style="color: rgb(29\, 33\, 41)\; font-family: Helvetica\, Arial\, sans-serif\; font-size: 14px\; white-space: pre-wrap\; background-color: rgb(255\, 255\, 255)\;" />\n<span style="color: rgb(29\, 33\, 41)\; font-family: Helvetica\, Arial\, sans-serif\; font-size: 14px\; white-space: pre-wrap\; background-color: rgb(255\, 255\, 255)\;">The net proceeds from the Annual Wine Tasting are used to purchase state of the art equipment for Pomona Valley Hospital Medical Center&rsquo\;s pediatric and neonatal intensive care (NICU) units\, and Milestones Center for Child Development. Over the past 14 years\, the Annual Wine Tasting has raised over $920\,000 for the two departments.</span></h3>\n
LOCATION:Fairplex Conference Center
UID:e.1883.1366
SEQUENCE:3
DTSTAMP:20260421T222735Z
URL:https://business.lavernechamber.org/events/details/pomona-valley-hospital-medical-center-foundation-15th-annual-wine-tasting-1366
END:VEVENT

END:VCALENDAR
