BEGIN:VCALENDAR
VERSION:2.0
PRODID:-//ChamberMaster//Event Calendar 2.0//EN
METHOD:PUBLISH
X-PUBLISHED-TTL:P3D
REFRESH-INTERVAL:P3D
CALSCALE:GREGORIAN
BEGIN:VEVENT
DTSTART:20180301T013000Z
DTEND:20180301T040000Z
X-MICROSOFT-CDO-ALLDAYEVENT:FALSE
SUMMARY:Pompeii & Amalfi Presentation
DESCRIPTION:Chamber Discoveries will be hosting an information seminar for the October 2018 Pompeii & Amalfi Coast trip. Interested travelers are invited to join us on Wednesday\, February 28th at 5:30 pm at Stefanos in Yorba Linda. We will be joined by the Yorba Linda\, Brea & La Habra Chamber's of Commerce. Light refreshments will be served
X-ALT-DESC;FMTTYPE=text/html:<span style="color: rgb(0\, 0\, 0)\; font-family: Arial\, Helvetica\, sans-serif\; font-size: 13.3333px\;">Chamber Discoveries will be hosting an information seminar for the October 2018 Pompeii &amp\; Amalfi Coast trip. Interested travelers are invited to join us on Wednesday\, February 28th at 5:30 pm at Stefanos in Yorba Linda. We will be joined by the Yorba Linda\, Brea &amp\; La Habra Chamber&#39\;s of Commerce. Light refreshments will be served</span>
LOCATION:Stefano's 18220 Yorba Linda Blvd Yorba Linda\, CA 92886
UID:e.1883.536
SEQUENCE:3
DTSTAMP:20260422T225925Z
URL:https://business.lavernechamber.org/events/details/pompeii-amalfi-presentation-536
END:VEVENT

END:VCALENDAR
