BEGIN:VCALENDAR
VERSION:2.0
PRODID:-//ChamberMaster//Event Calendar 2.0//EN
METHOD:PUBLISH
X-PUBLISHED-TTL:P3D
REFRESH-INTERVAL:P3D
CALSCALE:GREGORIAN
BEGIN:VEVENT
DTSTART:20201027T143000Z
DTEND:20201027T160000Z
X-MICROSOFT-CDO-ALLDAYEVENT:FALSE
SUMMARY:Power Hour
DESCRIPTION:The purpose of this Chamber program is to provide informative and educational seminars that are relevant to starting\, operating\, managing\, and growing our member businesses.\n\n\n\nFeatured Speaker:\n\nCarlos Garcia\, F.Y.I. Technologies\n\nSocial Media Tips from an expert
X-ALT-DESC;FMTTYPE=text/html:<div style="font-family: Lato\, sans-serif\; font-size: 15px\;">The purpose of this Chamber program is to provide informative and educational seminars that are relevant to starting\, operating\, managing\, and growing our member businesses.<br />\n<br />\nFeatured Speaker:<br />\n<b>Carlos Garcia\, F.Y.I. Technologies<br />\nSocial Media Tips from an expert</b></div>\n
LOCATION:Join Zoom Meeting https://us02web.zoom.us/j/85976699655?pwd=dTQvVWpQL0NOV0ZkN1o5bE5tUzdYdz09 Meeting ID: 859 7669 9655 Passcode: 319596 One tap mobile +16699006833\,\,85976699655#\,\,\,\,\,\,0#\,\,319596# Dial by your location +1 669 900 6833
UID:e.1883.3341
SEQUENCE:3
DTSTAMP:20260421T045005Z
URL:https://business.lavernechamber.org/events/details/power-hour-3341
END:VEVENT

END:VCALENDAR
