BEGIN:VCALENDAR
VERSION:2.0
PRODID:-//ChamberMaster//Event Calendar 2.0//EN
METHOD:PUBLISH
X-PUBLISHED-TTL:P3D
REFRESH-INTERVAL:P3D
CALSCALE:GREGORIAN
BEGIN:VEVENT
DTSTART:20190531T000000Z
DTEND:20190531T023000Z
X-MICROSOFT-CDO-ALLDAYEVENT:FALSE
SUMMARY:Prime Rib Thursday
DESCRIPTION:Come to The Corner Butcher for Prime Rib Thursday! \n\nJoin Pedro and the boys for this amazing deal!!!\n\n$19.95 includes  12oz Prime Rib\n\nwith housemade horse raddish and 2 sides
X-ALT-DESC;FMTTYPE=text/html:Come to The Corner Butcher for Prime Rib Thursday!&nbsp\;<br />\nJoin Pedro and the boys for this amazing deal!!!<br />\n$19.95 includes&nbsp\; 12oz Prime Rib<br />\nwith housemade horse raddish and&nbsp\;2 sides&nbsp\;
LOCATION:The Corner Butcher 2359 Foothill Blvd.
UID:e.1883.1319
SEQUENCE:3
DTSTAMP:20260421T221819Z
URL:https://business.lavernechamber.org/events/details/prime-rib-thursday-05-30-2019-1319
END:VEVENT

END:VCALENDAR
