BEGIN:VCALENDAR
VERSION:2.0
PRODID:-//ChamberMaster//Event Calendar 2.0//EN
METHOD:PUBLISH
X-PUBLISHED-TTL:P3D
REFRESH-INTERVAL:P3D
CALSCALE:GREGORIAN
BEGIN:VEVENT
DTSTART:20180802T153000Z
DTEND:20180802T190000Z
X-MICROSOFT-CDO-ALLDAYEVENT:FALSE
SUMMARY:PTAC Summit: Building Partnerships For Success
DESCRIPTION:Los Angeles County Procurement Technical Assistance Center (PTAC) in collaboration with University of La Verne Small Business Development Center (SBDC) invites you to attend this event! \n\n						Learn about current and upcoming contracting opportunities! Network with the following scheduled participants: U.S. Small Business Administration\, General Services Administration\, Small Business Development Center\, Opportunity Fund\, PCL Construction\, L.A. County Department of Public Works\, L.A. County Internal Services Department and many more! \n\n						RSVP AT: https://lacountyptac.ecenterdirect.com/events/6068 \n\n						Registration is required! For more information contact (323) 881-3964.
X-ALT-DESC;FMTTYPE=text/html:<p>&nbsp\;</p>\n\n<table cellpadding="0" cellspacing="0" style="border-collapse:collapse">\n	<tbody>\n		<tr>\n			<td>\n			<table cellpadding="0" cellspacing="0" style="border-collapse:collapse">\n				<tbody>\n					<tr>\n						<td>\n						<p><span style="color:rgb(0\, 0\, 0)\; font-size:12px">&nbsp\;</span><strong>Los Angeles County Procurement Technical Assistance Center (PTAC) in collaboration with University of La Verne Small Business Development Center (SBDC) invites you to attend this event!&nbsp\;</strong></p>\n\n						<p>Learn about current and upcoming contracting opportunities! Network with the following scheduled participants: U.S. Small Business Administration\, General Services Administration\, Small Business Development Center\, Opportunity Fund\, PCL Construction\, L.A. County Department of Public Works\, L.A. County Internal Services Department and many more!&nbsp\;</p>\n\n						<p><span style="color:#003948"><strong>RSVP AT: </strong></span>https://lacountyptac.ecenterdirect.com/events/6068&nbsp\;</p>\n\n						<p><strong>Registration is required! For more information contact (323) 881-3964.&nbsp\;</strong></p>\n						</td>\n						<td style="border-color:#cbcbcb #cbcbcb #cbcbcb #cbcbcb">\n						<p>&nbsp\;</p>\n						</td>\n					</tr>\n				</tbody>\n			</table>\n			</td>\n		</tr>\n	</tbody>\n</table>\n\n<p><span style="font-size:10.5px">&nbsp\;</span>&nbsp\;</p>\n\n<div>&nbsp\;</div>\n
LOCATION:University of La Verne Campus Center\, 3rd Floor 2000 Second Street La Verne\, CA 91750
UID:e.1883.705
SEQUENCE:3
DTSTAMP:20260422T120646Z
URL:https://business.lavernechamber.org/events/details/ptac-summit-building-partnerships-for-success-705
END:VEVENT

END:VCALENDAR
