BEGIN:VCALENDAR
VERSION:2.0
PRODID:-//ChamberMaster//Event Calendar 2.0//EN
METHOD:PUBLISH
X-PUBLISHED-TTL:P3D
REFRESH-INTERVAL:P3D
CALSCALE:GREGORIAN
BEGIN:VEVENT
DTSTART:20190417T003000Z
DTEND:20190417T033000Z
X-MICROSOFT-CDO-ALLDAYEVENT:FALSE
SUMMARY:Public Meeting/Hearing
DESCRIPTION:You are invited to review and comment on the Draft SEIR and to attend the Public Meeting/Hearing hosted by the Metro Gold Line Foothill Extension Construction Authority (Construction Authority):\n\nDRAFT SEIR PUBLIC REVIEW AND COMMENT PERIOD\n\nMarch 22\, 2019   May 6\, 2019\n\n\n\nTo review the Draft Supplemental Environmental Impact Report\, learn more about the Public Meeting/Hearing\, document viewing locations\, and how to provide comments:\n\n \n\nhttps://foothillgoldline.org/default/metro-gold-line-foothill-extension-azusa-to-montclair-draft-environmental-impact-report/\n\nComments on the Draft SEIR may be provided during the scheduled Public Meeting/Hearing on comment sheets and/or verbally. Comments can also be sent via U.S. mail or email by the close of the comment period. All submitted comments concerning the Draft SEIR must be received no later than May 6\, 2019 and should be directed to the following Construction Authority representative:\n\nMs. Lisa Levy Buch\n\nChief Communication Officer\n\nMetro Gold Line Foothill Extension Construction Authority\n\n406 E. Huntington Drive\, Suite 202\n\nMonrovia\, CA 91016-3633\n\nPhone: (626) 471-9050\n\nEmail: llevybuch@foothillextension.org
X-ALT-DESC;FMTTYPE=text/html:<span style="font-family:calibri\,sans-serif\;"><span style="font-size:12.0pt\;">You are invited to review and comment on the Draft SEIR and to attend the Public Meeting/Hearing hosted by the Metro Gold Line Foothill Extension Construction Authority (Construction Authority):</span></span><br />\n<strong><u><span style="font-family:calibri\,sans-serif\;"><span style="font-size:12.0pt\;">DRAFT SEIR PUBLIC REVIEW AND COMMENT PERIOD</span></span></u></strong><br />\n<strong><span style="font-family:calibri\,sans-serif\;"><span style="font-size:12.0pt\;">March 22\, 2019 &ndash\; May 6\, 2019</span></span></strong><br />\n<br />\n<span style="letter-spacing:-.25pt\;"><span style="font-family:calibri\,sans-serif\;">To review the Draft Supplemental Environmental Impact Report\, learn more about the Public Meeting/Hearing\, document viewing locations\, and how to provide comments:</span></span><br />\n&nbsp\;<br />\n<a href="https://foothillgoldline.org/default/metro-gold-line-foothill-extension-azusa-to-montclair-draft-environmental-impact-report/">https://foothillgoldline.org/default/metro-gold-line-foothill-extension-azusa-to-montclair-draft-environmental-impact-report/</a><br />\n<span style="font-family:calibri\,sans-serif\;"><span style="font-size:12.0pt\;">Comments on the Draft SEIR may be provided during the scheduled Public Meeting/Hearing on comment sheets and/or verbally. Comments can also be sent via U.S. mail or email by the close of the comment period. <strong>All submitted comments concerning the Draft SEIR must be received <u>no later than</u></strong><u> <strong>May 6\, 2019</strong></u> and should be directed to the following Construction Authority representative:</span></span><br />\n<span style="font-family:calibri\,sans-serif\;"><span style="font-size:12.0pt\;">Ms. Lisa Levy Buch<br />\nChief Communication Officer<br />\nMetro Gold Line Foothill Extension Construction Authority<br />\n406 E. Huntington Drive\, Suite 202<br />\nMonrovia\, CA 91016-3633<br />\nPhone: (626) 471-9050<br />\nEmail: </span></span><a href="mailto:llevybuch@foothillextension.org"><span style="font-family:calibri\,sans-serif\;"><span style="font-size:12.0pt\;">llevybuch@foothillextension.org</span></span></a><br />\n&nbsp\;
LOCATION:La Verne Community Center
UID:e.1883.1351
SEQUENCE:3
DTSTAMP:20260422T011331Z
URL:https://business.lavernechamber.org/events/details/public-meeting-hearing-1351
END:VEVENT

END:VCALENDAR
