BEGIN:VCALENDAR
VERSION:2.0
PRODID:-//ChamberMaster//Event Calendar 2.0//EN
METHOD:PUBLISH
X-PUBLISHED-TTL:P3D
REFRESH-INTERVAL:P3D
CALSCALE:GREGORIAN
BEGIN:VEVENT
DTSTART:20190820T180000Z
DTEND:20190820T190000Z
X-MICROSOFT-CDO-ALLDAYEVENT:FALSE
SUMMARY:Public Policy Committee
DESCRIPTION:This committee shall review those issues emanating from the public or government that are of concern to the business community\, and shall recommend to the Board of Directors positions for the Chamber to take on each issue. The Committee shall be responsible for the preparation and dissemination of public pronouncements and information.
X-ALT-DESC;FMTTYPE=text/html:<span style="color: rgb(117\, 117\, 117)\; font-family: &quot\;Open Sans&quot\;\, Arial\, sans-serif\; font-size: 14px\;">This committee shall review those issues emanating from the public or government that are of concern to the business community\, and shall recommend to the Board of Directors positions for the Chamber to take on each issue. The Committee shall be responsible for the preparation and dissemination of public pronouncements and information.</span>
LOCATION:Brackett Field Airport Conference Room (By Norm's Hangar)
UID:e.1883.1725
SEQUENCE:3
DTSTAMP:20260421T190636Z
URL:https://business.lavernechamber.org/events/details/public-policy-committee-1725
END:VEVENT

END:VCALENDAR
