BEGIN:VCALENDAR
VERSION:2.0
PRODID:-//ChamberMaster//Event Calendar 2.0//EN
METHOD:PUBLISH
X-PUBLISHED-TTL:P3D
REFRESH-INTERVAL:P3D
CALSCALE:GREGORIAN
BEGIN:VEVENT
DTSTART:20190118T020000Z
DTEND:20190118T040000Z
X-MICROSOFT-CDO-ALLDAYEVENT:FALSE
SUMMARY:Relay for Life Claremont-La Verne 2019 Kick-Off Meeting
DESCRIPTION:Calling for Community Unity in the Fight Against Cancer!! "What we can't do alone\, we can do together"\n\n\n\nWe are looking for Teams and Volunteers to join this year's Relay for Life Event Hosted at Claremont High School on April 13\, 2019.\nRefreshments and Snacks will be provided.\n  \n\nWhat is Relay for life:\n\nIt is a Fundraising Event for the American Cancer Society.  Teams  are formed by any group of individuals who take turns walking the track the entire time of the event symbolizing that cancer never sleeps. The event is filled with Live Music\, Entertainment and Fun Filled Activities.\n\nWhy Relay:\n To   Celebrate the Lives of those who have battled cancer\, Remember loved ones lost\, and to empower individuals and communities to fight back against cancer.\n\nHow Do I Form A Team:\n Gather a group of individuals\, come up with a name for your team and at tend Team Captain Meetings. Day of the Event: Set up a canopy for your team site\, create a walking schedule\, hold a fundraiser at your site\, provide Cancer Awareness information and encourage your team to fundraise and have Fun!!
X-ALT-DESC;FMTTYPE=text/html:<strong><span style="font-size:14px\;"><span style="color:#8C088C\;">Calling for Community Unity in the Fight Against Cancer!! &quot\;What we can&#39\;t do alone\, we can do together&quot\;</span></span><br />\n<br />\n<span style="font-size:14px\;"><span style="color:#080708\;">We are looking for Teams and Volunteers to join this year&#39\;s Relay for Life Event Hosted at Claremont High School on April </span></span></strong><span style="font-size:14px\;"><strong><span style="color:#080708\;">13\, 2019.</span></strong></span>\n<h2 align="center" style="margin-top:6.05pt\;margin-right:44.3pt\;margin-bottom:0in\;margin-left:45.55pt\;margin-bottom:.0001pt\;text-align:center\;"><span style="font-size:14px\;"><span style="color:#080708\;">Refreshments and Snacks <span style="letter-spacing:.1pt\;">will be</span> provided.</span></span></h2>\n<span style="font-size:14px\;"> &nbsp\;<br />\n<strong><span style="color:#080708\;"><span style="font-family:arial\,sans-serif\;">What is Relay for life:</span></span></strong><br />\n<span style="color:#080708\;">It is </span><span style="color:#1C1A1C\;">a </span><span style="color:#080708\;">Fundraising Event for the American Cancer Society</span><span style="color:#3B3B3B\;">.&nbsp\; </span><span style="color:#080708\;">Teams&nbsp\; </span><span style="color:#1C1A1C\;">are </span><span style="color:#080708\;">formed by any </span><span style="color:#1C1A1C\;">group </span><span style="color:#080708\;">of individuals </span><span style="color:#1C1A1C\;">who </span><span style="color:#080708\;">take turns </span><span style="color:#1C1A1C\;">walking </span><span style="color:#080708\;">the track the </span><span style="color:#1C1A1C\;">entire </span><span style="color:#080708\;">time of the </span><span style="color:#1C1A1C\;">event </span><span style="color:#080708\;">symbolizing that </span><span style="color:#1C1A1C\;">cancer </span><span style="color:#080708\;">never <span style="letter-spacing:-.15pt\;">sleeps</span></span><span style="letter-spacing:-.15pt\;"><span style="color:#2B2D2B\;">. </span></span><span style="color:#080708\;">The </span><span style="color:#1C1A1C\;">event </span><span style="color:#080708\;">is filled with Live Music\, Entertainment </span><span style="color:#1C1A1C\;">and </span><span style="color:#080708\;">Fun Filled <span style="letter-spacing:.2pt\;">Activities</span></span><span style="letter-spacing:.2pt\;"><span style="color:#2B2D2B\;">.</span></span></span>\n\n<h2 style="margin-top:.05pt\;"><strong><span style="font-size:14px\;"><span style="color:#080708\;">Why Relay:</span></span></strong></h2>\n<span style="font-size:14px\;"> <span style="color:#080708\;">To&nbsp\;&nbsp\; </span><span style="color:#080708\;">Celebrate the Lives of those who have battled cancer\, Remember loved ones lost\, and to </span><span style="color:#1C1A1C\;">empower </span><span style="color:#080708\;">individuals and </span><span style="color:#1C1A1C\;">communities </span><span style="color:#080708\;">to fight back </span><span style="color:#1C1A1C\;">against <span style="letter-spacing:-.2pt\;">cancer</span></span><span style="letter-spacing:-.2pt\;"><span style="color:#3B3B3B\;">.</span></span></span>\n\n<h2 style="margin-left:5.35pt\;line-height:20.3pt\;"><strong><span style="font-size:14px\;"><span style="color:#080708\;">How Do I&nbsp\;<span style="letter-spacing:.25pt\;">Form </span>A Team:</span></span></strong></h2>\n<span style="font-size:14px\;"> <span style="color:#080708\;">Gather a </span><span style="color:#1C1A1C\;">group of </span><span style="color:#080708\;">individuals\, </span><span style="color:#1C1A1C\;">come </span><span style="color:#080708\;">up </span><span style="color:#1C1A1C\;">with a </span><span style="color:#080708\;">name for your team </span><span style="color:#1C1A1C\;">and at&shy\;</span><span style="color:#080708\;">tend Team </span><span style="color:#1C1A1C\;">Captain </span><span style="letter-spacing:-.4pt\;"><span style="color:#080708\;">Meetings</span></span><span style="letter-spacing:-.4pt\;"><span style="color:#2B2D2B\;">. </span></span><strong><span style="color:#080708\;">Day </span></strong><strong><span style="color:#080708\;">of the Event: </span></strong><span style="color:#080708\;">Set up </span><span style="color:#1C1A1C\;">a canopy </span><span style="color:#080708\;">for </span><span style="color:#1C1A1C\;">your </span><span style="color:#080708\;">team </span><span style="color:#1C1A1C\;">site\, </span><span style="color:#080708\;">create a </span><span style="color:#1C1A1C\;">walking </span><span style="color:#080708\;">schedule\, hold </span><span style="color:#1C1A1C\;">a </span><span style="color:#080708\;">fundraiser </span><span style="color:#1C1A1C\;">at </span><span style="color:#080708\;">your site\, provide Cancer Awareness information and </span><span style="color:#1C1A1C\;">encourage </span><span style="color:#080708\;">your team to fundraise </span><span style="color:#1C1A1C\;">and </span><span style="color:#080708\;">have Fun!!</span></span><br />\n<br />\n<br />\n&nbsp\;
LOCATION:University of La Verne Landis Academic Building 2nd Floor - Howell Board Room
UID:e.1883.1276
SEQUENCE:3
DTSTAMP:20260422T042410Z
URL:https://business.lavernechamber.org/events/details/relay-for-life-claremont-la-verne-2019-kick-off-meeting-1276
END:VEVENT

END:VCALENDAR
