BEGIN:VCALENDAR
VERSION:2.0
PRODID:-//ChamberMaster//Event Calendar 2.0//EN
METHOD:PUBLISH
X-PUBLISHED-TTL:P3D
REFRESH-INTERVAL:P3D
CALSCALE:GREGORIAN
BEGIN:VEVENT
DTSTART:20180718T170000Z
DTEND:20180718T180000Z
X-MICROSOFT-CDO-ALLDAYEVENT:FALSE
SUMMARY:Ribbon Cutting Ceremony
DESCRIPTION:Join us as we welcome Funky Monkey Designs\, Inc. to our community!
X-ALT-DESC;FMTTYPE=text/html:Join us as we welcome Funky Monkey Designs\, Inc. to our community!
LOCATION:Funky Monkey Designs\, Inc. 301 E Arrow Hwy.\, Suite 104 San Dimas
UID:e.1883.699
SEQUENCE:3
DTSTAMP:20260422T133510Z
URL:https://business.lavernechamber.org/events/details/ribbon-cutting-ceremony-699
END:VEVENT

END:VCALENDAR
