BEGIN:VCALENDAR
VERSION:2.0
PRODID:-//ChamberMaster//Event Calendar 2.0//EN
METHOD:PUBLISH
X-PUBLISHED-TTL:P3D
REFRESH-INTERVAL:P3D
CALSCALE:GREGORIAN
BEGIN:VEVENT
DTSTART:20180117T010000Z
DTEND:20180117T020000Z
X-MICROSOFT-CDO-ALLDAYEVENT:FALSE
SUMMARY:Ribbon Cutting for The Corner Butcher 10 Year Anniversary
DESCRIPTION:Join us as we celebrate the 10 Year Anniversary at The Corner Butcher
X-ALT-DESC;FMTTYPE=text/html:Join us as we celebrate the 10 Year Anniversary at The Corner Butcher
LOCATION:The Corner Butcher 2359 Foothill Blvd\,
UID:e.1883.472
SEQUENCE:3
DTSTAMP:20260422T230142Z
URL:https://business.lavernechamber.org/events/details/ribbon-cutting-for-the-corner-butcher-10-year-anniversary-472
END:VEVENT

END:VCALENDAR
