BEGIN:VCALENDAR
VERSION:2.0
PRODID:-//ChamberMaster//Event Calendar 2.0//EN
METHOD:PUBLISH
X-PUBLISHED-TTL:P3D
REFRESH-INTERVAL:P3D
CALSCALE:GREGORIAN
BEGIN:VEVENT
DTSTART:20141205T000000Z
DTEND:20141205T020000Z
X-MICROSOFT-CDO-ALLDAYEVENT:FALSE
SUMMARY:Ribbon Cutting Mr. D's Diner
DESCRIPTION:Ribbon Cutting
X-ALT-DESC;FMTTYPE=text/html:Ribbon Cutting
LOCATION:Mr. D's Diner\, Baseline & Foothill Blvd\, La Verne
UID:e.1883.67
SEQUENCE:3
DTSTAMP:20260425T112340Z
URL:https://business.lavernechamber.org/events/details/ribbon-cutting-mr-d-s-diner-12-04-2014-67
END:VEVENT

END:VCALENDAR
