BEGIN:VCALENDAR
VERSION:2.0
PRODID:-//ChamberMaster//Event Calendar 2.0//EN
METHOD:PUBLISH
X-PUBLISHED-TTL:P3D
REFRESH-INTERVAL:P3D
CALSCALE:GREGORIAN
BEGIN:VEVENT
DTSTART:20190925T000000Z
DTEND:20190925T010000Z
X-MICROSOFT-CDO-ALLDAYEVENT:FALSE
SUMMARY:Ribbon Cutting\, New Owners!
DESCRIPTION:Join us as we welcome New Owners to Splash & Dash
X-ALT-DESC;FMTTYPE=text/html:Join us as we welcome New Owners to Splash &amp\; Dash
LOCATION:Splash & Dash
UID:e.1883.1502
SEQUENCE:3
DTSTAMP:20260421T174446Z
URL:https://business.lavernechamber.org/events/details/ribbon-cutting-new-owners-1502
END:VEVENT

END:VCALENDAR
