BEGIN:VCALENDAR
VERSION:2.0
PRODID:-//ChamberMaster//Event Calendar 2.0//EN
METHOD:PUBLISH
X-PUBLISHED-TTL:P3D
REFRESH-INTERVAL:P3D
CALSCALE:GREGORIAN
BEGIN:VEVENT
DTSTART:20140219T000000Z
DTEND:20140219T010000Z
X-MICROSOFT-CDO-ALLDAYEVENT:FALSE
SUMMARY:Ribbon Cutting - Sheryl Fox Realty
DESCRIPTION:Ribbon Cutting for Sheryl Fox Realty.  Join us for Champagne & Chocolate!
X-ALT-DESC;FMTTYPE=text/html:Ribbon Cutting for Sheryl Fox Realty.&nbsp\; Join us for Champagne &amp\; Chocolate!
LOCATION:2078 Bonita Ave\, La Verne\, at the Chamber Office
UID:e.1883.10
SEQUENCE:3
DTSTAMP:20260426T013834Z
URL:https://business.lavernechamber.org/events/details/ribbon-cutting-sheryl-fox-realty-02-18-2014-10
END:VEVENT

END:VCALENDAR
