BEGIN:VCALENDAR
VERSION:2.0
PRODID:-//ChamberMaster//Event Calendar 2.0//EN
METHOD:PUBLISH
X-PUBLISHED-TTL:P3D
REFRESH-INTERVAL:P3D
CALSCALE:GREGORIAN
BEGIN:VEVENT
DTSTART:20140806T210000Z
DTEND:20140806T220000Z
X-MICROSOFT-CDO-ALLDAYEVENT:FALSE
SUMMARY:Ribbon Cutting - Small Business Development Center
DESCRIPTION:Ribbon Cutting for the NEW Small Business Development Center
X-ALT-DESC;FMTTYPE=text/html:Ribbon Cutting for the NEW Small Business Development Center
LOCATION:University of La Verne\, 2180 Third St\, La Verne
UID:e.1883.61
SEQUENCE:3
DTSTAMP:20260425T160559Z
URL:https://business.lavernechamber.org/events/details/ribbon-cutting-small-business-development-center-08-06-2014-61
END:VEVENT

END:VCALENDAR
