BEGIN:VCALENDAR
VERSION:2.0
PRODID:-//ChamberMaster//Event Calendar 2.0//EN
METHOD:PUBLISH
X-PUBLISHED-TTL:P3D
REFRESH-INTERVAL:P3D
CALSCALE:GREGORIAN
BEGIN:VEVENT
DTSTART:20180913T003000Z
DTEND:20180913T020000Z
X-MICROSOFT-CDO-ALLDAYEVENT:FALSE
SUMMARY:Rising Professionals
DESCRIPTION:The East San Gabriel Valley Rising Professionals program was created to cultivate the next generation of civic and business leaders. Tailored to new entrepreneurs\, it is designed to provide business contacts\, professional growth\, and valuable information to the rising professional. Includes the Glendora\, La Verne\, Pomona & San Dimas Chambers. \n\n\n\n"Using Technology To Increase Your Business Productivity"
X-ALT-DESC;FMTTYPE=text/html:<div style="color: rgb(0\, 0\, 0)\;"><font face="Arial\, Helvetica\, sans-serif"><span style="font-size: 14.6667px\;">The East San Gabriel Valley&nbsp\;Rising Professionals program was created to cultivate the next generation of civic and business leaders. Tailored to new entrepreneurs\, it is designed to provide business contacts\, professional growth\, and valuable information to the rising professional. Includes&nbsp\;the Glendora\, La Verne\, Pomona &amp\; San Dimas&nbsp\;Chambers.&nbsp\;</span></font><br />\n<br />\n<span style="font-family:georgia\,serif\;"><span style="font-size:12.0pt\;">&ldquo\;Using Technology To Increase Your Business Productivity&rdquo\;</span></span></div>\n
LOCATION:Stuborn Mule 661 Arrow Hwy\, San Dimas\,
UID:e.1883.1174
SEQUENCE:3
DTSTAMP:20260422T103325Z
URL:https://business.lavernechamber.org/events/details/rising-professionals-1174
END:VEVENT

END:VCALENDAR
