BEGIN:VCALENDAR
VERSION:2.0
PRODID:-//ChamberMaster//Event Calendar 2.0//EN
METHOD:PUBLISH
X-PUBLISHED-TTL:P3D
REFRESH-INTERVAL:P3D
CALSCALE:GREGORIAN
BEGIN:VEVENT
DTSTART:20181011T003000Z
DTEND:20181011T020000Z
X-MICROSOFT-CDO-ALLDAYEVENT:FALSE
SUMMARY:Rising Professionals
DESCRIPTION:The East San Gabriel Valley Rising Professionals program was created to cultivate the next generation of civic and business leaders. Tailored to new entrepreneurs\, it is designed to provide business contacts\, professional growth\, and valuable information to the rising professional. Includes the Glendora\, La Verne\, Pomona & San Dimas Chambers. \n\n\n\nSocial Media Marketing
X-ALT-DESC;FMTTYPE=text/html:<div style="color: rgb(0\, 0\, 0)\;"><font face="Arial\, Helvetica\, sans-serif"><span style="font-size: 14.6667px\;">The East San Gabriel Valley&nbsp\;Rising Professionals program was created to cultivate the next generation of civic and business leaders. Tailored to new entrepreneurs\, it is designed to provide business contacts\, professional growth\, and valuable information to the rising professional. Includes&nbsp\;the Glendora\, La Verne\, Pomona &amp\; San Dimas&nbsp\;Chambers.&nbsp\;</span></font><br />\n<br />\n<span style="font-family:georgia\,serif\;"><span style="font-size:12.0pt\;">Social Media Marketing</span></span></div>\n
LOCATION:Mi Ranchito 1437 Foothill Bvd.
UID:e.1883.1220
SEQUENCE:3
DTSTAMP:20260422T103254Z
URL:https://business.lavernechamber.org/events/details/rising-professionals-1220
END:VEVENT

END:VCALENDAR
