BEGIN:VCALENDAR
VERSION:2.0
PRODID:-//ChamberMaster//Event Calendar 2.0//EN
METHOD:PUBLISH
X-PUBLISHED-TTL:P3D
REFRESH-INTERVAL:P3D
CALSCALE:GREGORIAN
BEGIN:VEVENT
DTSTART:20170615T000000Z
DTEND:20170615T020000Z
X-MICROSOFT-CDO-ALLDAYEVENT:FALSE
SUMMARY:Rising Professionals
DESCRIPTION:Join us for a Summer Fun Picnic at the San Dimas Chamber Office! \n\nThe San Dimas/La Verne Rising Professionals program was created to cultivate the next generation of civic and business leaders. Tailored to new entrepreneur\, it is designed to provide business contacts\, professional growth\, and valuable information to the rising professional.
X-ALT-DESC;FMTTYPE=text/html:<div style="color: rgb(0\, 0\, 0)\; font-family: Arial\, Helvetica\, sans-serif\; font-size: 14.6667px\;">Join us for a Summer Fun Picnic at the San&nbsp\;Dimas Chamber Office!&nbsp\;</div>\n\n<div style="color: rgb(0\, 0\, 0)\; font-family: Arial\, Helvetica\, sans-serif\; font-size: 14.6667px\;">The San Dimas/La Verne Rising Professionals program was created to cultivate the next generation of civic and business leaders. Tailored to new entrepreneur\, it is designed to provide business contacts\, professional growth\, and valuable information to the rising professional.</div>\n
LOCATION:San Dimas Chamber 246 E. Bonita Ave.\, San Dimas
UID:e.1883.123
SEQUENCE:3
DTSTAMP:20260423T105223Z
URL:https://business.lavernechamber.org/events/details/rising-professionals-123
END:VEVENT

END:VCALENDAR
