BEGIN:VCALENDAR
VERSION:2.0
PRODID:-//ChamberMaster//Event Calendar 2.0//EN
METHOD:PUBLISH
X-PUBLISHED-TTL:P3D
REFRESH-INTERVAL:P3D
CALSCALE:GREGORIAN
BEGIN:VEVENT
DTSTART:20170713T003000Z
DTEND:20170713T020000Z
X-MICROSOFT-CDO-ALLDAYEVENT:FALSE
SUMMARY:Rising Professionals
DESCRIPTION:The San Dimas/La Verne Rising Professionals program was created to cultivate the next generation of civic and business leaders. Tailored to new entrepreneur\, it is designed to provide business contacts\, professional growth\, and valuable information to the rising professional.\n\n\n\nOur speaker this month will be The Small Business Development Center. The  SBDC stimulates economic growth in the East San Gabriel Valley by providing small businesses and entrepreneurs with expert consulting\, effective training and access to resources.
X-ALT-DESC;FMTTYPE=text/html:<div style="color: rgb(0\, 0\, 0)\;"><font face="Arial\, Helvetica\, sans-serif"><span style="font-size: 14.6667px\;">The San </span></font>Dimas<font face="Arial\, Helvetica\, sans-serif"><span style="font-size: 14.6667px\;">/La Verne Rising Professionals program was created to cultivate the next generation of civic and business leaders. Tailored to new entrepreneur\, it is designed to provide business contacts\, professional growth\, and valuable information to the rising professional.</span></font><br />\n<br />\n<span style="font-family: &quot\;Helvetica Neue&quot\;\, Helvetica\, Arial\, sans-serif\; font-size: 14.6667px\;">Our speaker this month will be The Small Business Development Center. The &nbsp\;SBDC&nbsp\;stimulates economic growth in the East San Gabriel Valley by providing small businesses and entrepreneurs with expert consulting\, effective training and access to resources</span><font face="georgia\, serif"><span style="font-size: 16px\;">.</span></font></div>\n
LOCATION:University of La Verne President's Dining Hall 1998 3rd Street
UID:e.1883.171
SEQUENCE:3
DTSTAMP:20260423T080938Z
URL:https://business.lavernechamber.org/events/details/rising-professionals-171
END:VEVENT

END:VCALENDAR
