BEGIN:VCALENDAR
VERSION:2.0
PRODID:-//ChamberMaster//Event Calendar 2.0//EN
METHOD:PUBLISH
X-PUBLISHED-TTL:P3D
REFRESH-INTERVAL:P3D
CALSCALE:GREGORIAN
BEGIN:VEVENT
DTSTART:20170810T003000Z
DTEND:20170810T020000Z
X-MICROSOFT-CDO-ALLDAYEVENT:FALSE
SUMMARY:Rising Professionals
DESCRIPTION:The San Dimas/La Verne Rising Professionals program was created to cultivate the next generation of civic and business leaders. Tailored to new entrepreneur\, it is designed to provide business contacts\, professional growth\, and valuable information to the rising professional.
X-ALT-DESC;FMTTYPE=text/html:<div style="color: rgb(0\, 0\, 0)\;"><font face="Arial\, Helvetica\, sans-serif"><span style="font-size: 14.6667px\;">The San </span></font>Dimas<font face="Arial\, Helvetica\, sans-serif"><span style="font-size: 14.6667px\;">/La Verne Rising Professionals program was created to cultivate the next generation of civic and business leaders. Tailored to new entrepreneur\, it is designed to provide business contacts\, professional growth\, and valuable information to the rising professional.</span></font><br />\n<br />\n&nbsp\;</div>\n
LOCATION:University of La Verne President's Dining Hall 1998 3rd Street
UID:e.1883.191
SEQUENCE:3
DTSTAMP:20260423T063340Z
URL:https://business.lavernechamber.org/events/details/rising-professionals-191
END:VEVENT

END:VCALENDAR
