BEGIN:VCALENDAR
VERSION:2.0
PRODID:-//ChamberMaster//Event Calendar 2.0//EN
METHOD:PUBLISH
X-PUBLISHED-TTL:P3D
REFRESH-INTERVAL:P3D
CALSCALE:GREGORIAN
BEGIN:VEVENT
DTSTART:20170914T000000Z
DTEND:20170914T010000Z
X-MICROSOFT-CDO-ALLDAYEVENT:FALSE
SUMMARY:Rising Professionals
DESCRIPTION:The San Dimas/La Verne Rising Professionals program was created to cultivate the next generation of civic and business leaders. Tailored to new entrepreneur\, it is designed to provide business contacts\, professional growth\, and valuable information to the rising professional.\n\n\n\nWe will be meeting for an hour of Networking at McKinley's Restaurant & Bar  then heading over to La Verne Day at the Fair with discounted tickets!
X-ALT-DESC;FMTTYPE=text/html:<div style="color: rgb(0\, 0\, 0)\;"><font face="Arial\, Helvetica\, sans-serif"><span style="font-size: 14.6667px\;">The San </span></font>Dimas<font face="Arial\, Helvetica\, sans-serif"><span style="font-size: 14.6667px\;">/La Verne Rising Professionals program was created to cultivate the next generation of civic and business leaders. Tailored to new entrepreneur\, it is designed to provide business contacts\, professional growth\, and valuable information to the rising professional.</span></font><br />\n<br />\nWe will be meeting for an hour of Networking at McKinley&#39\;s Restaurant &amp\; Bar&nbsp\;&nbsp\;then heading over to La Verne Day at the Fair&nbsp\;with discounted tickets!</div>\n
LOCATION:McKinley's Grille Restaurant and Bar 601 W McKinley Ave. Pomona
UID:e.1883.207
SEQUENCE:3
DTSTAMP:20260423T045835Z
URL:https://business.lavernechamber.org/events/details/rising-professionals-207
END:VEVENT

END:VCALENDAR
