BEGIN:VCALENDAR
VERSION:2.0
PRODID:-//ChamberMaster//Event Calendar 2.0//EN
METHOD:PUBLISH
X-PUBLISHED-TTL:P3D
REFRESH-INTERVAL:P3D
CALSCALE:GREGORIAN
BEGIN:VEVENT
DTSTART:20171012T003000Z
DTEND:20171012T020000Z
X-MICROSOFT-CDO-ALLDAYEVENT:FALSE
SUMMARY:Rising Professionals
DESCRIPTION:The East San Gabriel Valley Rising Professionals program was created to cultivate the next generation of civic and business leaders. Tailored to new entrepreneurs\, it is designed to provide business contacts\, professional growth\, and valuable information to the rising professional.\n\n\n\nThis month Michael Mergil will be sharing with us best practices for hosting a successful and stress free event
X-ALT-DESC;FMTTYPE=text/html:<div style="color: rgb(0\, 0\, 0)\;"><font face="Arial\, Helvetica\, sans-serif"><span style="font-size: 14.6667px\;">The East San Gabriel Valley</span></font><font face="Arial\, Helvetica\, sans-serif"><span style="font-size: 14.6667px\;">&nbsp\;Rising Professionals program was created to cultivate the next generation of civic and business leaders. Tailored to new entrepreneurs\, it is designed to provide business contacts\, professional growth\, and valuable information to the rising professional.</span></font><br />\n<br />\nThis month Michael Mergil&nbsp\;will be sharing with us best practices for hosting a successful and stress free event</div>\n
LOCATION:Old Stump Brewery 2896 Metropolitan Place North Pomona\, Ca 91767.
UID:e.1883.353
SEQUENCE:3
DTSTAMP:20260423T032604Z
URL:https://business.lavernechamber.org/events/details/rising-professionals-353
END:VEVENT

END:VCALENDAR
