BEGIN:VCALENDAR
VERSION:2.0
PRODID:-//ChamberMaster//Event Calendar 2.0//EN
METHOD:PUBLISH
X-PUBLISHED-TTL:P3D
REFRESH-INTERVAL:P3D
CALSCALE:GREGORIAN
BEGIN:VEVENT
DTSTART:20171109T013000Z
DTEND:20171109T030000Z
X-MICROSOFT-CDO-ALLDAYEVENT:FALSE
SUMMARY:Rising Professionals
DESCRIPTION:The East San Gabriel Valley Rising Professionals program was created to cultivate the next generation of civic and business leaders. Tailored to new entrepreneurs\, it is designed to provide business contacts\, professional growth\, and valuable information to the rising professional.
X-ALT-DESC;FMTTYPE=text/html:<div style="color: rgb(0\, 0\, 0)\;"><font face="Arial\, Helvetica\, sans-serif"><span style="font-size: 14.6667px\;">The East San Gabriel Valley</span></font><font face="Arial\, Helvetica\, sans-serif"><span style="font-size: 14.6667px\;">&nbsp\;Rising Professionals program was created to cultivate the next generation of civic and business leaders. Tailored to new entrepreneurs\, it is designed to provide business contacts\, professional growth\, and valuable information to the rising professional.</span></font><br />\n<br />\n&nbsp\;</div>\n
LOCATION:Clubhouse 66 1200 E Route 66 Glendora
UID:e.1883.373
SEQUENCE:3
DTSTAMP:20260423T032603Z
URL:https://business.lavernechamber.org/events/details/rising-professionals-373
END:VEVENT

END:VCALENDAR
