BEGIN:VCALENDAR
VERSION:2.0
PRODID:-//ChamberMaster//Event Calendar 2.0//EN
METHOD:PUBLISH
X-PUBLISHED-TTL:P3D
REFRESH-INTERVAL:P3D
CALSCALE:GREGORIAN
BEGIN:VEVENT
DTSTART:20180111T013000Z
DTEND:20180111T030000Z
X-MICROSOFT-CDO-ALLDAYEVENT:FALSE
SUMMARY:Rising Professionals
DESCRIPTION:The East San Gabriel Valley Rising Professionals program was created to cultivate the next generation of civic and business leaders. Tailored to new entrepreneurs\, it is designed to provide business contacts\, professional growth\, and valuable information to the rising professional. Includes the Gendora\, La Verne\, Pomona & San Dimas Chambers. \n\n\n\nJoin for an evening of eating\, drinking & painting! \n\n\n\nCatering generously provided by Jimmy John's
X-ALT-DESC;FMTTYPE=text/html:<div style="color: rgb(0\, 0\, 0)\;"><font face="Arial\, Helvetica\, sans-serif"><span style="font-size: 14.6667px\;">The East San Gabriel Valley</span></font><font face="Arial\, Helvetica\, sans-serif"><span style="font-size: 14.6667px\;">&nbsp\;Rising Professionals program was created to cultivate the next generation of civic and business leaders. Tailored to new entrepreneurs\, it is designed to provide business contacts\, professional growth\, and valuable information to the rising professional. Includes&nbsp\;the Gendora\, La Verne\, Pomona &amp\; San Dimas&nbsp\;Chambers.&nbsp\;</span></font></div>\n\n<div style="color: rgb(0\, 0\, 0)\; text-align: center\;"><br />\nJoin for an evening of eating\, drinking &amp\; painting!&nbsp\;<br />\n<br />\nCatering generously provided by Jimmy John&#39\;s</div>\n
LOCATION:La Verne Brewing 2125 Wright Ave.\, C-14
UID:e.1883.469
SEQUENCE:3
DTSTAMP:20260422T225753Z
URL:https://business.lavernechamber.org/events/details/rising-professionals-469
END:VEVENT

END:VCALENDAR
