BEGIN:VCALENDAR
VERSION:2.0
PRODID:-//ChamberMaster//Event Calendar 2.0//EN
METHOD:PUBLISH
X-PUBLISHED-TTL:P3D
REFRESH-INTERVAL:P3D
CALSCALE:GREGORIAN
BEGIN:VEVENT
DTSTART:20180315T003000Z
DTEND:20180315T020000Z
X-MICROSOFT-CDO-ALLDAYEVENT:FALSE
SUMMARY:Rising Professionals
DESCRIPTION:The East San Gabriel Valley Rising Professionals program was created to cultivate the next generation of civic and business leaders. Tailored to new entrepreneurs\, it is designed to provide business contacts\, professional growth\, and valuable information to the rising professional. Includes the Gendora\, La Verne\, Pomona & San Dimas Chambers. \n\n\n\nOur Speaker will be Theresa Latasa Mumma\, President/CEO of Glendora Employment Agency\, Inc.\n\nThe topic will be Interviewing Skills.
X-ALT-DESC;FMTTYPE=text/html:<div style="color: rgb(0\, 0\, 0)\;"><font face="Arial\, Helvetica\, sans-serif"><span style="font-size: 14.6667px\;">The East San Gabriel Valley&nbsp\;Rising Professionals program was created to cultivate the next generation of civic and business leaders. Tailored to new entrepreneurs\, it is designed to provide business contacts\, professional growth\, and valuable information to the rising professional. Includes&nbsp\;the Gendora\, La Verne\, Pomona &amp\; San Dimas&nbsp\;Chambers.&nbsp\;</span></font><br />\n<br />\n<span style="font-family:footlight mt light\,serif\;"><span style="font-size:14.0pt\;">Our Speaker will be <strong>Theresa Latasa Mumma\, </strong><em>President/CEO</em> of <strong>Glendora Employment Agency\, Inc.</strong></span></span><br />\n<span style="font-family:footlight mt light\,serif\;"><span style="font-size:14.0pt\;">The topic will be <u>Interviewing Skills.</u></span></span><br />\n&nbsp\;</div>\n\n<div style="color: rgb(0\, 0\, 0)\; text-align: center\;"><br />\n&nbsp\;</div>\n
LOCATION:The Broken Yoke Cafe 670 S Grand Ave. Glendora
UID:e.1883.551
SEQUENCE:3
DTSTAMP:20260422T194526Z
URL:https://business.lavernechamber.org/events/details/rising-professionals-551
END:VEVENT

END:VCALENDAR
