BEGIN:VCALENDAR
VERSION:2.0
PRODID:-//ChamberMaster//Event Calendar 2.0//EN
METHOD:PUBLISH
X-PUBLISHED-TTL:P3D
REFRESH-INTERVAL:P3D
CALSCALE:GREGORIAN
BEGIN:VEVENT
DTSTART:20180510T003000Z
DTEND:20180510T020000Z
X-MICROSOFT-CDO-ALLDAYEVENT:FALSE
SUMMARY:Rising Professionals
DESCRIPTION:The East San Gabriel Valley Rising Professionals program was created to cultivate the next generation of civic and business leaders. Tailored to new entrepreneurs\, it is designed to provide business contacts\, professional growth\, and valuable information to the rising professional. Includes the Gendora\, La Verne\, Pomona & San Dimas Chambers. \n\n\n\n\n\nOur Featured Speaker will be Morgan Sternquist\, Pomona Valley Habitat for Humanity\,\n\nThe Personal & Professional Benefits of Volunteering
X-ALT-DESC;FMTTYPE=text/html:<div style="color: rgb(0\, 0\, 0)\;"><font face="Arial\, Helvetica\, sans-serif"><span style="font-size: 14.6667px\;">The East San Gabriel Valley&nbsp\;Rising Professionals program was created to cultivate the next generation of civic and business leaders. Tailored to new entrepreneurs\, it is designed to provide business contacts\, professional growth\, and valuable information to the rising professional. Includes&nbsp\;the Gendora\, La Verne\, Pomona &amp\; San Dimas&nbsp\;Chambers.&nbsp\;</span></font><br />\n<br />\n<br />\nOur Featured Speaker will be Morgan Sternquist\, Pomona Valley Habitat for Humanity\,<br />\nThe Personal &amp\; Professional Benefits of Volunteering</div>\n\n<div style="color: rgb(0\, 0\, 0)\; text-align: center\;"><br />\n&nbsp\;</div>\n
LOCATION:Third Street Wine 2142 Third Street
UID:e.1883.643
SEQUENCE:3
DTSTAMP:20260422T180411Z
URL:https://business.lavernechamber.org/events/details/rising-professionals-643
END:VEVENT

END:VCALENDAR
