BEGIN:VCALENDAR
VERSION:2.0
PRODID:-//ChamberMaster//Event Calendar 2.0//EN
METHOD:PUBLISH
X-PUBLISHED-TTL:P3D
REFRESH-INTERVAL:P3D
CALSCALE:GREGORIAN
BEGIN:VEVENT
DTSTART:20191230T180000Z
DTEND:20191230T190000Z
X-MICROSOFT-CDO-ALLDAYEVENT:FALSE
SUMMARY:Rose Parade-Bound Marching Band to Perform at David & Margaret Youth and Family Services on Dec. 30
DESCRIPTION:Want to experience some of the excitement of the world famous Rose Parade\, but can't deal with the traffic and crowds? Then bring your blankets and lawn chairs and join your friends at David & Margaret Youth and Family Services for a free performance by a Pasadena-bound band!\n\n \n\nThe Rancho Verde High School Crimson Regiment from Moreno Valley is one of just 20 bands worldwide selected for a coveted spot in the 130th Annual Rose Parade on Wednesday\, Jan. 1\, 2020. \n\n \n\nThe performance is part of the Tournament of Roses BandCares program\, which offers Rose Parade marching bands the opportunity to connect with local non-profit organizations during their visit leading up to the Rose Parade.\n\n \n\nEstablished in 1910\, David & Margaret serves more than 1\,300 clients annually through a comprehensive range of programs.
X-ALT-DESC;FMTTYPE=text/html:Want to experience some of the excitement of the world famous Rose Parade\, but can&rsquo\;t deal with the traffic and crowds? Then bring your blankets and lawn chairs and join your friends at David &amp\; Margaret Youth and Family Services for a free performance by a Pasadena-bound band!<br />\n&nbsp\;<br />\nThe Rancho Verde High School Crimson Regiment from Moreno Valley is one of just 20 bands worldwide selected for a coveted spot in the 130<sup>th</sup> Annual Rose Parade on Wednesday\, Jan. 1\, 2020.&nbsp\;<br />\n&nbsp\;<br />\nThe performance is part of the&nbsp\;Tournament of Roses&nbsp\;BandCares program\, which offers&nbsp\;Rose Parade&nbsp\;marching&nbsp\;bands&nbsp\;the opportunity to connect with local non-profit organizations during their visit leading up to the&nbsp\;Rose Parade.<br />\n&nbsp\;<br />\nEstablished in 1910\, David &amp\; Margaret serves more than 1\,300 clients annually through a comprehensive range of programs.
LOCATION:David & Margaret
UID:e.1883.2144
SEQUENCE:3
DTSTAMP:20260421T145242Z
URL:https://business.lavernechamber.org/events/details/rose-parade-bound-marching-band-to-perform-at-david-margaret-youth-and-family-services-on-dec-30-2144
END:VEVENT

END:VCALENDAR
