BEGIN:VCALENDAR
VERSION:2.0
PRODID:-//ChamberMaster//Event Calendar 2.0//EN
METHOD:PUBLISH
X-PUBLISHED-TTL:P3D
REFRESH-INTERVAL:P3D
CALSCALE:GREGORIAN
BEGIN:VEVENT
DTSTART:20190704T183000Z
DTEND:20190704T210000Z
X-MICROSOFT-CDO-ALLDAYEVENT:FALSE
SUMMARY:Rotary-Sponsored Free Watermelon
DESCRIPTION:The Rotary Club of La Verne would like to treat you to a slice of free\, cool watermelon following the parade at approximately 11:30 a.m. Come to the Country Fair at Roynon Elementary School (D and 8th Street)
X-ALT-DESC;FMTTYPE=text/html:The Rotary Club of La Verne would like to treat you to a slice of free\, cool watermelon following the parade at approximately 11:30 a.m. Come to the Country Fair at Roynon Elementary School (D and 8th Street)
LOCATION:Roynon Elementary School
UID:e.1883.1435
SEQUENCE:3
DTSTAMP:20260421T190806Z
URL:https://business.lavernechamber.org/events/details/rotary-sponsored-free-watermelon-1435
END:VEVENT

END:VCALENDAR
