BEGIN:VCALENDAR
VERSION:2.0
PRODID:-//ChamberMaster//Event Calendar 2.0//EN
METHOD:PUBLISH
X-PUBLISHED-TTL:P3D
REFRESH-INTERVAL:P3D
CALSCALE:GREGORIAN
BEGIN:VEVENT
DTSTART:20171008T180000Z
DTEND:20171009T060000Z
X-MICROSOFT-CDO-ALLDAYEVENT:FALSE
SUMMARY:San Dimas Rodeo
DESCRIPTION:Get your boots on and get ready for a rip roaring\, yee-hawing\, action packed good time. Come out and see all of these professional cowboys and cowgirls in action and don't miss out on being a part of Americas #1 Sport and help us celebrate our 23rd Anniversary!
X-ALT-DESC;FMTTYPE=text/html:<span style="color: rgb(43\, 43\, 43)\; font-family: Lato\, sans-serif\; font-size: 15px\;">Get your boots on and get ready for a rip roaring\, yee-hawing\, action packed good time. Come out and see all of these professional cowboys and cowgirls in action and don&rsquo\;t miss out on being a part of Americas #1 Sport and help us celebrate our 23rd Anniversary!</span>
LOCATION:Horsethief Canyon Park Rd\, San Dimas\, CA 91773
UID:e.1883.351
SEQUENCE:3
DTSTAMP:20260423T032723Z
URL:https://business.lavernechamber.org/events/details/san-dimas-rodeo-10-08-2017-351
END:VEVENT

END:VCALENDAR
