BEGIN:VCALENDAR
VERSION:2.0
PRODID:-//ChamberMaster//Event Calendar 2.0//EN
METHOD:PUBLISH
X-PUBLISHED-TTL:P3D
REFRESH-INTERVAL:P3D
CALSCALE:GREGORIAN
BEGIN:VEVENT
DTSTART:20171006T003000Z
DTEND:20171006T040000Z
X-MICROSOFT-CDO-ALLDAYEVENT:FALSE
SUMMARY:San Dimas Rodeo Pardner Reception
DESCRIPTION:Please join us at our\n\nSan Dimas Charity Pro Rodeo Pardner Reception\n\nPlease join us at the Rodeo Grounds for a while\n\nand enjoy a beverage get some food/snacks and relax\n\nwith Friends and Neighbors\, meet and enjoy\n\n\n\nPRCA Rodeo Announcer ~ Kelly Kenny\n\nPRCA Rodeo Clown ~ JJ Harrison\n\nSan Dimas Rodeo Queen ~ Cora Steffy\n\nFood by Claro's Italian Market\n\nBeverages by Clayton's Brewhouse & Eatery\n\nClarksburg Wine\n\nSweets provided by Cupcakes by Christie
X-ALT-DESC;FMTTYPE=text/html:Please join us at our<br />\nSan Dimas Charity Pro Rodeo Pardner Reception<br />\nPlease join us at the Rodeo Grounds for a while<br />\nand enjoy a beverage get some food/snacks and relax<br />\nwith Friends and Neighbors\, meet and enjoy<br />\n<br />\nPRCA Rodeo Announcer ~ Kelly Kenny<br />\nPRCA Rodeo Clown ~ JJ Harrison<br />\nSan Dimas Rodeo Queen ~ Cora Steffy<br />\nFood by Claro&rsquo\;s Italian Market<br />\nBeverages by Clayton&rsquo\;s Brewhouse &amp\; Eatery<br />\nClarksburg Wine<br />\nSweets provided by Cupcakes by Christie
LOCATION:San Dimas Rodeo Grounds Horsethief Canyon Park\, San Dimas
UID:e.1883.349
SEQUENCE:3
DTSTAMP:20260423T032620Z
URL:https://business.lavernechamber.org/events/details/san-dimas-rodeo-pardner-reception-349
END:VEVENT

END:VCALENDAR
