BEGIN:VCALENDAR
VERSION:2.0
PRODID:-//ChamberMaster//Event Calendar 2.0//EN
METHOD:PUBLISH
X-PUBLISHED-TTL:P3D
REFRESH-INTERVAL:P3D
CALSCALE:GREGORIAN
BEGIN:VEVENT
DTSTART:20150502T190000Z
DTEND:20150502T203000Z
X-MICROSOFT-CDO-ALLDAYEVENT:FALSE
SUMMARY:Seller's & Sandwiches - KALEO Real Estate Lunch & Info Session
DESCRIPTION:Are you a home owner with questions about how solar panels affect the value of your home? Does it make a difference to lease or buy solar panels? What concerns do buyers have? Come to KALEO Real Estate on Saturday May 2 at 12pm for lunch and an information session! All are welcome. Open to the public.
X-ALT-DESC;FMTTYPE=text/html:Are you a home owner with questions about how solar panels affect the value of your home? Does it make a difference to lease or buy solar panels? What concerns do buyers have? Come to KALEO Real Estate on Saturday May 2 at 12pm for lunch and an information session! All are welcome. Open to the public.
LOCATION:1339 Foothill Blvd. La Verne\, CA 91750
UID:e.1883.96
SEQUENCE:3
DTSTAMP:20260425T022012Z
URL:https://business.lavernechamber.org/events/details/seller-s-sandwiches-kaleo-real-estate-lunch-info-session-05-02-2015-96
END:VEVENT

END:VCALENDAR
