BEGIN:VCALENDAR
VERSION:2.0
PRODID:-//ChamberMaster//Event Calendar 2.0//EN
METHOD:PUBLISH
X-PUBLISHED-TTL:P3D
REFRESH-INTERVAL:P3D
CALSCALE:GREGORIAN
BEGIN:VEVENT
DTSTART:20191215T220000Z
DTEND:20191216T010000Z
X-MICROSOFT-CDO-ALLDAYEVENT:FALSE
SUMMARY:Senator Anthony Portantino Holiday Open House
DESCRIPTION:Please join Senator Anthony Portantino for a Holiday Open House\n\n& Community Appreciation\n\n	 Meet the staff & discuss legislative priorities for 2020.\n	 Light refreshments and entertainment.\n	 Please bring your favorite childrens book to donate to our book drive.\n\n\n\n(Donations are not required to attend event.)
X-ALT-DESC;FMTTYPE=text/html:Please join Senator Anthony Portantino for a Holiday Open House<br />\n&amp\; Community Appreciation\n<ul>\n	<li>&nbsp\;Meet the staff &amp\; discuss legislative priorities for 2020.</li>\n	<li>&nbsp\;Light refreshments and entertainment.</li>\n	<li>&nbsp\;Please bring your favorite childrens book to donate to our book drive.</li>\n</ul>\n<br />\n(Donations are not required to attend event.)
LOCATION:Artsakh Avenue and Broadway (formerly known as Maryland Ave.) Glendale\, CA
UID:e.1883.2130
SEQUENCE:3
DTSTAMP:20260421T145022Z
URL:https://business.lavernechamber.org/events/details/senator-anthony-portantino-holiday-open-house-2130
END:VEVENT

END:VCALENDAR
