BEGIN:VCALENDAR
VERSION:2.0
PRODID:-//ChamberMaster//Event Calendar 2.0//EN
METHOD:PUBLISH
X-PUBLISHED-TTL:P3D
REFRESH-INTERVAL:P3D
CALSCALE:GREGORIAN
BEGIN:VEVENT
DTSTART:20170928T163000Z
DTEND:20170928T183000Z
X-MICROSOFT-CDO-ALLDAYEVENT:FALSE
SUMMARY:Setting Up A Website
DESCRIPTION:Learn about\n\n	The difference between website platforms\n	Trends & features for your type of business
X-ALT-DESC;FMTTYPE=text/html:Learn about\n<ul>\n	<li>The difference between website platforms</li>\n	<li>Trends &amp\; features for your type of business</li>\n</ul>\n
LOCATION:University of La Verne Campus Center 3rd Floor 2000 2nd Street. La Verne\, Ca 91750
UID:e.1883.199
SEQUENCE:3
DTSTAMP:20260423T045823Z
URL:https://business.lavernechamber.org/events/details/setting-up-a-website-199
END:VEVENT

END:VCALENDAR
